Workbook
Name Bond_rating: Data!$M$31:$N$36
Name Econ_chart: Data!$J$13:$N$19
Name Econ_level: Data!$J$22:$J$28
Name Invest_option: Data!$Q$31:$Q$32
Name Land_Builds: Data!$B$13:$F$18
Name Mil_Buildings: Data!$T$3:$T$7
Name MilitaryB_cost: Data!$T$4:$U$7
Name Naval_builds: Data!$B$23:$G$28
Name Ship_size: Data!$B$32:$J$37
Name Ship_types: Data!$B$31:$B$37
Name ShipQlookup: Data!$B$40:$C$45
Name Weapon_Quality: Data!$D$2:$D$8
Name Yes_No: Data!$B$4:$B$6

Sheet Econ
A1: Economía
B2: V2.1
A3: País | B3: EE.CC | G3: Año: | H3: 1898
A4: Población (millones) | B4: 23.28 | G4: Crec: | H4: Bajo
A5: Población Tasable (millones): | B5: =B4-Militar!P12 -> 17.67
A6: Nivel Económico (I.D.H): | B6: Normal
A7: Ingresos: | G7: Creditos en Vigor | I7: 0
A8: Nacionales: | B8: =(VLOOKUP(B6,Econ_chart,5,0))*B5 -> 141.36 | G8: Pago de Intereses | I8: =I7*J13 -> 0
A9: Colonial/Ferrocarril | B9: =Colonias!D3+Ferrocarriles!D1 -> 39 | H9: Total | I9: =SUM(I7:I8) -> 0
A10: Saldo anterior presupuesto: | B10: 2
A11: Mantenimiento: | B11: =Militar!O12 -> 60
J12: Intereses
G13: Calif. Deuda: | I13: B | J13: 0.2
A15: Balance Neto | B15: =B8+B9+B10-B11 -> 122.36
A18: Recursos
B20: Industria | C20: Comida | D20: Mat Primas | E20: Exóticos | F20: Carbón | G20: Hierro | I20: Tabla de precios
A21: Nacional | B21: 5 | C21: 13 | D21: 9 | E21: 3 | F21: 2 | G21: 1 | K21: Mercado Mundial | M21: Mercado Cautivo
A22: Ultramar | B22: 0 | C22: 0 | D22: 0 | E22: 0 | F22: 0 | G22: 0 | J22: Base $ | K22: Compra | L22: Venta | M22: Compra | N22: Venta
A23: Producción Total: | B23: =SUM(B21:B22) -> 5 | C23: =SUM(C21:C22) -> 13 | D23: =SUM(D21:D22) -> 9 | E23: =SUM(E21:E22) -> 3 | F23: =SUM(F21:F22) -> 2 | G23: =SUM(G21:G22) -> 1 | I23: Bienes | J23: 27 | K23: =J23+(J23*0.3) -> 35.1 | L23: =J23-(J23*0.3) -> 18.9 | M23: =J23-(J23*0.2) -> 21.6 | N23: =J23+(J23*0.2) -> 32.4
A24: Necesidades: | B24: =B4/(VLOOKUP(B6,Econ_chart,2,0)) -> 3.88 | C24: =ROUNDUP(B4/(VLOOKUP(B6,Econ_chart,3,0)),0) -> 10 | D24: 0 | E24: =ROUNDUP(B4/(VLOOKUP(B6,Econ_chart,4,0)),0) -> 4 | F24: 0 | G24: 0 | I24: Comida | J24: 10 | K24: =J24+(J24*0.3) -> 13 | L24: =J24-(J24*0.3) -> 7 | M24: =J24-(J24*0.2) -> 8 | N24: =J24+(J24*0.2) -> 12
A25: Balance: | B25: =-B24 -> -3.88 | C25: =C21-C24 -> 3 | D25: =D23 -> 9 | E25: =E23-E24 -> -1 | F25: =F23 -> 2 | G25: =G23 -> 1 | I25: Exóticos | J25: 12 | K25: =J25+(J25*0.3) -> 15.6 | L25: =J25-(J25*0.3) -> 8.4 | M25: =J25-(J25*0.2) -> 9.6 | N25: =J25+(J25*0.2) -> 14.4
I26: Mat. Primas | J26: 10 | K26: =J26+(J26*0.3) -> 13 | L26: =J26-(J26*0.3) -> 7 | M26: =J26-(J26*0.2) -> 8 | N26: =J26+(J26*0.2) -> 12
I27: Carbón | J27: 10 | K27: =J27+(J27*0.3) -> 13 | L27: =J27-(J27*0.3) -> 7 | M27: =J27-(J27*0.2) -> 8 | N27: =J27+(J27*0.2) -> 12
I28: Hierro | J28: 10 | K28: =J28+(J28*0.3) -> 13 | L28: =J28-(J28*0.3) -> 7 | M28: =J28-(J28*0.2) -> 8 | N28: =J28+(J28*0.2) -> 12
I29: Petroleo* | J29: 10 | K29: =J29+(J29*0.3) -> 13 | L29: =J29-(J29*0.3) -> 7 | M29: =J29-(J29*0.2) -> 8 | N29: =J29+(J29*0.2) -> 12 | O29: * - No disponible hasta 1905
A31: Recursos en Mercados Cautivos | B31: =Colonias!D6 -> Bienes | C31: =Colonias!E6 -> Comida | D31: =Colonias!F6 -> Mat Primas | E31: =Colonias!G6 -> Exóticos | F31: =Colonias!H6 -> Carbón | G31: =Colonias!I6 -> Hierro
A32: Les compramos | B32: =SUM(Colonias!D7) -> 0 | C32: =SUM(Colonias!E7) -> 0 | D32: =SUM(Colonias!F7) -> 0 | E32: =SUM(Colonias!G7) -> 0 | F32: =SUM(Colonias!H7) -> 0 | G32: =SUM(Colonias!I7) -> 0
A33: Les vendemos | B33: =Colonias!K7 -> 0 | C33: =Colonias!L7 -> 0 | D33: =Colonias!M7 -> 0 | E33: =Colonias!N7 -> 0 | F33: =Colonias!O7 -> 0 | G33: =Colonias!P7 -> 0
A34: Compras no cubiertas | B34: =B32-J51 -> 0 | C34: =C32-K51 -> 0 | D34: =D32-L51 -> 0 | E34: =E32-M51 -> 0 | F34: =F32-N51 -> 0 | G34: =G32-O51 -> 0 | H34: No factorizado automáticamente - deberá ser adquirido en la linea correspondiente de comercio.
A35: Ventas no cubiertas | B35: =B33-B51 -> 0 | C35: =C33-C51 -> 0 | D35: =D33-D51 -> 0 | E35: =E33-E51 -> 0 | F35: =F33-F51 -> 0 | G35: =G33-G51 -> 0 | H35: Si el valor es distinto de cero la demanda no habrá sido cubierta resultando en problemas políticos y/o posibles contracciones del mercado.
A37: Comercio y producción
B39: (Exportaciones/Ventas/Envíos) | J39: (Importaciones/Compras/Recepciones)
A40: País | B40: Bienes | C40: Comida | D40: Mat Primas | E40: Exóticos | F40: Carbón | G40: Hierro | H40: Efectivo | J40: Bienes | K40: Comida | L40: Mat Primas | M40: Exóticos | N40: Carbón | O40: Hierro | P40: Industria
A51: Mercados Cautivos | H51: =-((J51*M23)+(K51*M24)+(L51*M26)+(M51*M25)+(N51*M27)+(O51*M28)) -> 0 | P51: =(B51*N23)+(C51*N24)+(D51*N26)+(E51*N25)+(F51*N27)+(G51*N28) -> 0
A52: Mercado Mundial | H52: =-((J52*K23)+(K52*K24)+(L52*K26)+(M52*K25)+(N52*K27)+(O52*K28)) -> 0 | P52: =-((B52*L23)+(C52*L24)+(D52*L26)+(E52*L25)+(F52*L27)+(G52*L28)) -> 0
A53: Total | B53: =SUM(B41:B52) -> 0 | C53: =SUM(C41:C52) -> 0 | D53: =SUM(D41:D52) -> 0 | E53: =SUM(E41:E52) -> 0 | F53: =SUM(F41:F52) -> 0 | G53: =SUM(G41:G52) -> 0 | H53: =SUM(H51:H52)-SUM(H41:H50) -> 0 | I53: Total | J53: =SUM(J41:J52) -> 0 | K53: =SUM(K41:K52) -> 0 | L53: =SUM(L41:L52) -> 0 | M53: =SUM(M41:M52) -> 0 | N53: =SUM(N41:N52) -> 0 | O53: =SUM(O41:O52) -> 0 | P53: =SUM(P41:P51)-P52 -> 0
B55: =Colonias!D49 -> 0 | C55: =Colonias!E49 -> 0 | D55: =Colonias!F49 -> 0 | E55: =Colonias!G49 -> 0 | F55: =Colonias!H49 -> 0 | G55: =Colonias!I49 -> 0 | H55: Balance
A56: Balance de recursos | B56: =B25-B53+J53 -> -3.88 | C56: =C25-C53+K53 -> 3 | D56: =D25-D53+L53 -> 9 | E56: =E25-E53+M53 -> -1 | F56: =F25-F53+N53 -> 2 | G56: =G25-G53+O53 -> 1 | H56: =B15+H53+P53 -> 122.36
A59: Producción de Bienes | B59: Bienes/IP | C59: Comida | D59: Mat Primas | E59: Exóticos | F59: Carbón | G59: Hierro | H59: Efectivo | I59: Industria
A60: Usando 1 Ind + 1 Mat Prima | D60: =B60 -> 0 | I60: =B60 -> 0
...

Sheet Militar
A2: Información Militar
A5: Info Ejército
B6: Inf Reg | C6: Tec | D6: Inf res | E6: Tec | F6: AM | G6: Tec | H6: AC | I6: Tec | J6: AA | K6: Tec | N6: Total Mantenimiento Militar:
A7: Localización | O7: Coste | P7: Fza Lab
A8: Estados del Este | B8: 9 | C8: E | D8: 8 | E8: E | F8: 4 | G8: E | H8: 2 | I8: E | N8: Ejerc | P8: =B37/1000000 -> 5.1
A9: Estados del Este | D9: 5 | E9: F | H9: 3 | I9: F | J9: 2 | K9: F | N9: Marina | O9: =B65 -> 26 | P9: =B66 -> 0.51
A10: Monterrey | B10: 1 | C10: E
A11: Cuba | B11: 1 | C11: E | N11: Instalaciones | O11: =B99 -> 34
A12: Reservas Indias | B12: 1 | C12: E | N12: Total | O12: =SUM(O9:O11) -> 60 | P12: =P8+P9 -> 5.61
A25: Total | B25: =SUM(B8:B24) -> 12 | D25: =SUM(D8:D24) -> 13 | F25: =SUM(F8:F24) -> 4 | H25: =SUM(H8:H24) -> 5 | J25: =SUM(J8:J24) -> 2
A28: Eficiencia Militar | B28: Excelente | F28: Coste de Entrenamiento Ejército: | G28: =B25+D25+H25+J25 -> 32 | I28: Balance | J28: =Econ!G202 -> 122.36
A29: Cuerpo Voluntarios: | B29: No
A30: Mobilization: | B30: 8,5 semanas | E30: Entrenamiento Ejercito
E31: País | H31: Coste | I31: Notas
B34: Fza Laboral
A35: Regulares | B35: =(B25+H25+J25)*200000 -> 3800000
A36: Reserva | B36: =D25*100000 -> 1300000 | G36: Total | H36: =SUM(H32:H35) -> 0
A37: Total | B37: =SUM(B35:B36) -> 5100000
G39: Costes de mobilización anual
G40: Inf | H40: AC | I40: AA | J40: AM
F41: Guerra Total | G41: 4 | H41: 8 | I41: 16 | J41: 1
F42: Conflicto Transfonterizo | G42: 8 | H42: 16 | I42: 32 | J42: 2
F43: Expediciones coloniales | G43: 16 | H43: 32 | I43: 48 | J43: 4
A47: Info Naval
A48: Localización | B48: Ac | C48: Tec | D48: Cr | E48: Tec | F48: Su | G48: Tec | H48: Destruc | I48: Tec | J48: Cañonera | K48: Tec | L48: Transporte
A50: Atlantico | B50: 2 | C50: E | D50: 9 | E50: E | F50: 10 | G50: C | H50: 12 | I50: E | J50: 5 | K50: E | L50: 2
A51: Cuba | D51: 3 | E51: E | F51: 1 | G51: C | H51: 5 | I51: E | J51: 2 | K51: E
A52: En 1897 | F52: 10 | G52: C
A59: Total: | B59: =SUM(B50:B58) -> 2 | D59: =SUM(D50:D58) -> 12 | F59: =SUM(F50:F58) -> 21 | H59: =SUM(H50:H58) -> 17 | J59: =SUM(J50:J58) -> 7 | L59: =SUM(L50:L58) -> 2
A63: Eficiencia Militar | B63: Excelente | F63: Coste Entrenamiento Naval | G63: =B64*0.5 -> 51
A64: Modulos Navales | B64: =(B59*4)+(D59*2)+(F59*2)+(H59*1)+(J59*1)+(L59*2) -> 102
A65: Mant. Marina | B65: =ROUNDUP((B64/20)*5,0) -> 26 | E65: Entrenamiento Marina
A66: Fza Laboral | B66: =ROUNDUP((B64/20)*0.1,2) -> 0.51 | C66: (million) | E66: Pais | H66: Coste | I66: Notas
G71: Total | H71: =SUM(H67:H70) -> 0
G72: Balance | H72: =J28-H36-H71 -> 122.36
A75: Info Inst Militares
A76: Puertos | B76: Cantidad | C76: Coste | D76: Localización
A77: Metropoli | B77: 8 | D77: Atlantico: Charleston, Norfolk, Miami // Caribe: Key West, Havana, Nueva Orleans, Guantanamo, Tampa
A78: Otros | B78: 0 | C78: =B78 -> 0
A86: Astilleros | B86: Cantidad | C86: Coste | D86: Localización
...

Sheet Colonias
B1: Colonias, Mercados e Inversiones Cautivas
B3: Mercados Cautivos
C5: Aportan | K5: Necesitan
C6: Efectivo | D6: Bienes | E6: Comida | F6: Mat Primas | G6: Exóticos | H6: Carbón | I6: Hierro | K6: Bienes | L6: Comida | M6: Mat Primas | N6: Exóticos | O6: Carbón | P6: Hierro
C7: =SUM(C11:C30) -> 0 | D7: =SUM(D11:D30) -> 0 | E7: =SUM(E11:E30) -> 0 | F7: =SUM(F11:F30) -> 0 | G7: =SUM(G11:G30) -> 0 | H7: =SUM(H11:H30) -> 0 | I7: =SUM(I11:I30) -> 0 | K7: =SUM(K11:K30) -> 0 | L7: =SUM(L11:L30) -> 0 | M7: =SUM(M11:M30) -> 0 | N7: =SUM(N11:N30) -> 0 | O7: =SUM(O11:O30) -> 0 | P7: =SUM(P11:P30) -> 0
C9: Dispone | K9: Necesita
C10: Efectivo | D10: Goods | E10: Food | F10: Raw | G10: Tropical | H10: Coal | I10: Iron | K10: Goods | L10: Food | M10: Raw | N10: Tropical | O10: Coal | P10: Iron
B33: Inversiones disponibles
B34: Descripción | C34: Pais | D34: Recurso | E34: Coste | F34: % | G34: FFCC
B35: =_xlfn.CONCAT(D35," en ",C35) -> Industria en Sonora | C35: Sonora | D35: Industria | E35: 90 | F35: 0 | G35: No
B36: =_xlfn.CONCAT(D36," en ",C36) -> Mat Prima en El Paso | C36: El Paso | D36: Mat Prima | E36: 50 | F36: 0 | G36: No
B37: =_xlfn.CONCAT(D37," en ",C37) -> Comida en Hermosillo | C37: Hermosillo | D37: Comida | E37: 50 | F37: 0 | G37: No
B38: =_xlfn.CONCAT(D38," en ",C38) -> Materia Prima en Fort Worth | C38: Fort Worth | D38: Materia Prima | E38: 50 | F38: 0 | G38: Si
B39: =_xlfn.CONCAT(D39," en ",C39) -> Materia Prima en Amarillo | C39: Amarillo | D39: Materia Prima | E39: 55 | F39: 0 | G39: Si

Sheet Ferrocarriles
C1: Total | D1: =SUM(D4:D46) -> 39
A3: Existentes | G3: Disponibles
A4: Proyecto | D4: Ingresa | E4: Año | G4: Proyecto | H4: Coste | I4: Años
A5: Nueva Orleans-Sonora | D5: 24 | E5: 1893 | G5: Expansión FFCC Estados del Este | H5: 45 | I5: 2
A6: Nueva Orleans- Dallas-Santa Fe (Nuevo México) | D6: 15 | E6: 1895 | G6: Nueva Orleans-Monterrey | H6: 45 | I6: 2

Sheet Data
D1: Quality | I1: Land Build Cost | P1: Retool Cost | Q1: Total cost
J2: SA | K2: MG | L2: FA | M2: HA | N2: Count | O2: Retool(s) | T2: Military Installations
B3: Yes/No | D3: A | I3: Line 1 | J3: =IF(Econ!C133>0,(VLOOKUP(Econ!D133,Land_Builds,2)*Econ!C133),0) -> 0 | K3: =IF(Econ!E133>0,(VLOOKUP(Econ!F133,Land_Builds,3)*Econ!E133),0) -> 0 | L3: =IF(Econ!G133>0,(VLOOKUP(Econ!H133,Land_Builds,4)*Econ!G133),0) -> 0 | M3: =IF(Econ!I133>0,(VLOOKUP(Econ!J133,Land_Builds,5)*Econ!I133),0) -> 0 | N3: =COUNTIFS(J3:M3,">0") -> 0 | O3: =IF(N3>0,N3-1,0) -> 0 | P3: =O3*5 -> 0 | Q3: =J3+K3+L3+M3+P3 -> 0
D4: B | I4: Line 2 | J4: =IF(Econ!C134>0,(VLOOKUP(Econ!D134,Land_Builds,2)*Econ!C134),0) -> 0 | K4: =IF(Econ!E134>0,(VLOOKUP(Econ!F134,Land_Builds,3)*Econ!E134),0) -> 0 | L4: =IF(Econ!G134>0,(VLOOKUP(Econ!H134,Land_Builds,4)*Econ!G134),0) -> 0 | M4: =IF(Econ!I134>0,(VLOOKUP(Econ!J134,Land_Builds,5)*Econ!I134),0) -> 0 | N4: =COUNTIFS(J4:M4,">0") -> 0 | O4: =IF(N4>0,N4-1,0) -> 0 | P4: =O4*5 -> 0 | Q4: =J4+K4+L4+M4+P4 -> 0 | T4: Fuerte | U4: 20
B5: No | D5: C | I5: Line 3 | J5: =IF(Econ!C135>0,(VLOOKUP(Econ!D135,Land_Builds,2)*Econ!C135),0) -> 0 | K5: =IF(Econ!E135>0,(VLOOKUP(Econ!F135,Land_Builds,3)*Econ!E135),0) -> 0 | L5: =IF(Econ!G135>0,(VLOOKUP(Econ!H135,Land_Builds,4)*Econ!G135),0) -> 0 | M5: =IF(Econ!I135>0,(VLOOKUP(Econ!J135,Land_Builds,5)*Econ!I135),0) -> 0 | N5: =COUNTIFS(J5:M5,">0") -> 0 | O5: =IF(N5>0,N5-1,0) -> 0 | P5: =O5*5 -> 0 | Q5: =J5+K5+L5+M5+P5 -> 0 | T5: Fortaleza | U5: 30
B6: Si | D6: D | I6: Line 4 | J6: =IF(Econ!C136>0,(VLOOKUP(Econ!D136,Land_Builds,2)*Econ!C136),0) -> 0 | K6: =IF(Econ!E136>0,(VLOOKUP(Econ!F136,Land_Builds,3)*Econ!E136),0) -> 0 | L6: =IF(Econ!G136>0,(VLOOKUP(Econ!H136,Land_Builds,4)*Econ!G136),0) -> 0 | M6: =IF(Econ!I136>0,(VLOOKUP(Econ!J136,Land_Builds,5)*Econ!I136),0) -> 0 | N6: =COUNTIFS(J6:M6,">0") -> 0 | O6: =IF(N6>0,N6-1,0) -> 0 | P6: =O6*5 -> 0 | Q6: =J6+K6+L6+M6+P6 -> 0 | T6: Puerto | U6: 20
D7: E | T7: Astillero | U7: 5
D8: F
B11: Land Builds | J11: Economic System | Q11: Cost to recruit
B12: Quality | C12: SA | D12: MG | E12: FA | F12: HA | K12: Goods | L12: Food | M12: Tropical | N12: Income | P12: Pop: | Q12: =ROUNDUP(Econ!B4,0) -> 24
B13: A | C13: 4 | D13: 4 | E13: 8 | F13: 18 | J13: Boom | K13: 4.5 | L13: 2 | M13: 5 | N13: 13.5 | P13: Divs | Q13: =Militar!B25+Militar!D25+Militar!H25+Militar!J25 -> 32
B14: B | C14: 4 | D14: 4 | E14: 7 | F14: 16 | J14: Fallido | K14: 8 | L14: 3 | M14: 10 | N14: 3.5 | P14: 1.5 | Q14: =Q12*1.5 -> 36
B15: C | C15: 3 | D15: 3 | E15: 6 | F15: 14 | J15: Recesión | K15: 7.5 | L15: 2.75 | M15: 10 | N15: 5 | P15: Vol | Q15: =IF(Militar!B29="Yes",5,0) -> 0
B16: D | C16: 3 | D16: 3 | E16: 6 | F16: 12 | J16: Normal | K16: 6 | L16: 2.5 | M16: 7 | N16: 8 | P16: Inf cost | Q16: =IF(Q13>Q14,5,0) -> 0 | R16: =IF(Q13<Q12,-5,0) -> 0 | S16: =IF(Q13>(Q12*2),5,0) -> 0
B17: E | C17: 3 | D17: 3 | E17: 6 | F17: 12 | J17: Próspero | K17: 5.5 | L17: 2.25 | M17: 6 | N17: 9.5 | P17: Reg Troops | Q17: =10+Q15+Q16+R16 -> 10
B18: F | C18: 3 | D18: 3 | E18: 6 | F18: 12 | J18: Estancado | K18: 7 | L18: 2.75 | M18: 9 | N18: 6.5 | P18: Res Troops | Q18: =10+Q15+R16+S16 -> 10
J19: Exitoso | K19: 5 | L19: 2.25 | M19: 5 | N19: 11.5
B21: Naval Builds
B22: Quality | C22: GB | D22: DD | E22: CA | F22: Sub | G22: BB | J22: Fallido | M22: Investment Data
B23: A | C23: 3 | D23: 3 | E23: 6 | F23: 6 | G23: 10 | J23: Recesión
B24: B | C24: 3 | D24: 3 | E24: 5 | F24: 5 | G24: 8 | J24: Estancado | M24: =Econ!A71 -> Industria | O24: =Econ!C71+Econ!E71 -> 0.99 | P24: =IF(Econ!F71<1,1,((O24-1)/Econ!E71)) -> -0.03030303 | Q24: =1-P24 -> 1.030303
B25: C | C25: 2 | D25: 2 | E25: 4 | F25: 4 | G25: 7 | J25: Normal | M25: =Econ!A72 -> Industria | O25: =Econ!C72+Econ!E72 -> 0.33 | P25: =IF(Econ!F72<1,1,((O25-1)/Econ!E72)) -> -2.030303 | Q25: =1-P25 -> 3.030303
B26: D | C26: 2 | D26: 2 | E26: 4 | F26: 4 | G26: 6 | J26: Próspero | M26: =Econ!A80 -> Materias Primas | O26: =Econ!C80+Econ!E80 -> 0.33 | P26: =IF(Econ!F80<1,1,((O26-1)/Econ!E80)) -> -2.030303 | Q26: =1-P26 -> 3.030303
B27: E | C27: 2 | D27: 2 | E27: 4 | F27: 4 | G27: 6 | J27: Exitoso | M27: =Econ!A81 -> Materias Primas | O27: =Econ!C81+Econ!E81 -> 0.33 | P27: =IF(Econ!F81<1,1,((O27-1)/Econ!E81)) -> -2.030303 | Q27: =1-P27 -> 3.030303
B28: F | C28: 2 | D28: 2 | E28: 4 | F28: 4 | G28: 6 | J28: Boom | M28: =Econ!A82 -> Materias Primas | O28: =Econ!C82+Econ!E82 -> 0.33 | P28: =IF(Econ!F82<1,1,((O28-1)/Econ!E82)) -> -2.030303 | Q28: =1-P28 -> 3.030303
B30: Ship Types
C31: Ship Size | D31: TTC | E31: A | F31: B | G31: C | H31: D | I31: E | J31: F | M31: A | N31: 0.15 | Q31: No
B32: Acorazado | C32: 4 | D32: 4 | E32: 10 | F32: 8 | G32: 7 | H32: 6 | I32: 6 | J32: 6 | M32: B | N32: 0.2 | Q32: Si
B33: Crucero | C33: 2 | D33: 2 | E33: 6 | F33: 5 | G33: 4 | H33: 4 | I33: 4 | J33: 4 | M33: C | N33: 0.25
B34: Destructor | C34: 1 | D34: 1 | E34: 3 | F34: 3 | G34: 2 | H34: 2 | I34: 2 | J34: 2 | M34: D | N34: 0.3
B35: Cañonera | C35: 1 | D35: 1 | E35: 3 | F35: 3 | G35: 2 | H35: 2 | I35: 2 | J35: 2 | M35: E | N35: 0.35
B36: Submarino | C36: 2 | D36: 2 | E36: 6 | F36: 5 | G36: 4 | H36: 4 | I36: 4 | J36: 4 | M36: F | N36: 0.4
B37: Transporte | C37: 2 | D37: 2 | E37: 4 | F37: 4 | G37: 4 | H37: 4 | I37: 4 | J37: 4
D39: Line
B40: A | C40: 4 | D40: 1 | E40: =VLOOKUP(Econ!E151,ShipQlookup,2) -> #N/A
B41: B | C41: 5 | D41: 2 | E41: =VLOOKUP(Econ!E152,ShipQlookup,2) -> #N/A
B42: C | C42: 6 | D42: 3 | E42: =VLOOKUP(Econ!E152,ShipQlookup,2) -> #N/A
B43: D | C43: 7 | D43: 4 | E43: =VLOOKUP(Econ!E153,ShipQlookup,2) -> #N/A
B44: E | C44: 8 | D44: 5 | E44: =VLOOKUP(Econ!E154,ShipQlookup,2) -> #N/A
B45: F | C45: 9 | D45: 6 | E45: =VLOOKUP(Econ!E155,ShipQlookup,2) -> #N/A
...
