Workbook

Sheet Sumario
C3: Poblacion | D3: 69684000 | O3: Bienes | P3: Comida | Q3: Exóticos | R3: Tasas | S3: Social
C4: Pob. Tasable | D4: =D3-((Militar!E7+Militar!E9+Militar!E10)*10+(Militar!E8)*5+(Militar!D14)*20000+(Militar!D15+Militar!D17)*10000+(Militar!D16)*5000+(Militar!D18)*2500+('Instalaciones Militares'!E11)*10) -> 60429000 | H4: Tu Pais Goza de un nivel de desarrollo: | J4: Boom económico | N4: Estado Fallido | O4: 0.000125 | P4: 0.00033333333 | Q4: 0.0001 | R4: 0.0025
D5: 8 | N5: Estado en recesión | O5: 0.00013333333 | P5: 0.00036363636 | Q5: 0.0001 | R5: 0.005
C6: Rentas | D6: =((VLOOKUP(J4,N4:R10,5,0)*D4/1000)*1.02)+D5+D8 -> 896.10733 | H6: Importaciones | I6: =Importación!D21 -> 24 | K6: Ingresos | L6: =D9+I7 -> 992.10733 | N6: Economía estancada | O6: 0.00014285714 | P6: 0.00036363636 | Q6: 0.00011111111 | R6: 0.0065
C7: Colonias | D7: 48 | H7: Exportaciones | I7: =Exportación!D21 -> 48 | K7: Gastos | L7: =D22+I6 -> 729.05 | N7: Normal | O7: 0.00016666667 | P7: 0.0004 | Q7: 0.00014285714 | R7: 0.008
D8: 56 | N8: Economía próspera | O8: 0.00018181818 | P8: 0.00044444444 | Q8: 0.00016666667 | R8: 0.0095
C9: Balanza Fiscal | D9: =D6+D7 -> 944.10733 | H9: Balanza Comercial | I9: =I7-I6 -> 24 | K9: Balanza Neta | L9: =L6-L7 -> 263.05733 | N9: Economía en alza | O9: 0.0002 | P9: 0.00044444444 | Q9: 0.0002 | R9: 0.0115
N10: Boom económico | O10: 0.00022222222 | P10: 0.0005 | Q10: 0.0002 | R10: 0.0135
C12: Otros costes
C13: Ejercito | D13: =Militar!H11+Militar!H33+'Instalaciones Militares'!F6+'Instalaciones Militares'!F7 -> 82.25
C14: Armada | D14: =Militar!H19+Militar!H41+'Instalaciones Militares'!F8+'Instalaciones Militares'!F9+'Instalaciones Militares'!F10 -> 99.8
C15: Logistica | D15: =Transporte!N7+Militar!T26+Militar!T51-(Industria!I11*Importación!N2*1.25)-(Industria!F11*Importación!E2*1.25)-(Industria!H11*Importación!K2*1.5) -> 0
C16: Otros | D16: =Industria!E15*6 -> 0
C17: Investigación | D17: =Investigación!F16+Investigación!F35 -> 128
C18: Construcciones | D18: ='Instalaciones Militares'!F21 -> 0
C19: Inversiones | D19: =Inversiones!L51 -> 395
C20: Adicional
C22: Total: | D22: =SUM(D13:D20) -> 705.05

Sheet Importación
B2: Precios de Base | D2: Comida | E2: 10 | G2: Varios | H2: 10 | J2: Petroleo | K2: 10 | M2: Carbon | N2: 10 | P2: Hierro | Q2: 10 | S2: Exóticos | T2: 10 | V2: Bienes | W2: 20 | Y2: Training | AB2: Armas
D4: Ud | E4: Diferencia | G4: Ud | H4: Diferencia | J4: Ud | K4: Diferencia | M4: Ud | N4: Diferencia | P4: Ud | Q4: Diferencia | S4: Ud | T4: Diferencia | V4: Ud | W4: Diferencia | Y4: Ud | Z4: Diferencia | AB4: Ud | AC4: Diferencia
B5: Austro- Hungría
B6: Inglaterra
B7: La Union
B8: E. Confederados
B9: Francia
B10: Alemania
B11: Italia
B12: Japón
B13: Rusia
B14: Potencias menores
B15: Mercado Mundial
B16: Mercados Cautivos | S16: 3
B18: Total | D18: =SUM(D5:D16) -> 0 | E18: =SUM(D5:D14)*E2+(D16*E2)*4/5+(D15*E2)*6/5+SUM(E5:E16) -> 0 | G18: =SUM(G5:G16) -> 0 | H18: =SUM(G5:G14)*H2+(G16*H2)*4/5+(G15*H2)*6/5+SUM(H5:H16) -> 0 | J18: =SUM(J5:J16) -> 0 | K18: =SUM(J5:J14)*K2+(J16*K2)*6/5+(J15*K2)*4/5+SUM(K5:K16) -> 0 | M18: =SUM(M5:M16) -> 0 | N18: =SUM(M5:M14)*N2+(M16*N2)*4/5+(M15*N2)*6/5+SUM(N5:N16) -> 0 | P18: =SUM(P5:P16) -> 0 | Q18: =SUM(P5:P14)*Q2+(P16*Q2)*4/5+(P15*Q2)*6/5+SUM(Q5:Q16) -> 0 | S18: =SUM(S5:S16) -> 3 | T18: =SUM(S5:S14)*T2+(S16*T2)*4/5+(S15*T2)*6/5+SUM(T5:T16) -> 24 | V18: =SUM(V5:V16) -> 0 | W18: =SUM(V5:V14)*W2+(V16*W2)*4/5+(V15*W2)*6/5+SUM(W5:W16) -> 0 | Y18: =SUM(Y5:Y16) -> 0 | Z18: =SUM(Y5:Y14)*Z2+(Y16*Z2)*4/5+(Y15*Z2)*5/4+SUM(Z5:Z14) -> 0 | AB18: =SUM(AB5:AB16) -> 0 | AC18: =SUM(AB5:AB14)*AC2+(AB16*AC2)*4/5+(AB15*AC2)*5/4+SUM(AC5:AC14) -> 0
B21: Coste Neto | D21: =E18+H18+K18+N18+Q18+T18+W18+Z18+AC18 -> 24

Sheet Exportación
B2: Precios de Base | D2: Comida | E2: 10 | G2: Varios | H2: 10 | J2: Petroleo | K2: 10 | M2: Carbon | N2: 10 | P2: Hierro | Q2: 10 | S2: Exóticos | T2: 10 | V2: Bienes | W2: 20 | Y2: Training | AB2: Armas
D4: Ud | E4: Diferencia | G4: Ud | H4: Diferencia | J4: Ud | K4: Diferencia | M4: Ud | N4: Diferencia | P4: Ud | Q4: Diferencia | S4: Ud | T4: Diferencia | V4: Ud | W4: Diferencia | Y4: Ud | Z4: Diferencia | AB4: Ud | AC4: Diferencia
B5: Austro- Hungría
B6: Inglaterra
B7: La Union
B8: E. Confederados
B9: Francia
B10: Alemania
B11: Italia
B12: Japón
B13: Rusia
B14: Potencias menores
B15: Mercado Mundial
B16: Mercados Cautivos | V16: 2
B18: Total | D18: =SUM(D5:D16) -> 0 | E18: =SUM(D5:D14)*E2+(D16*E2)*6/5+(D15*E2)*4/5+SUM(E5:E16) -> 0 | G18: =SUM(G5:G16) -> 0 | H18: =SUM(G5:G14)*H2+(G16*H2)*6/5+(G15*H2)*4/5+SUM(H5:H16) -> 0 | J18: =SUM(J5:J16) -> 0 | K18: =SUM(J5:J14)*K2+(J16*K2)*6/5+(J15*K2)*4/5+SUM(K5:K16) -> 0 | M18: =SUM(M5:M16) -> 0 | N18: =SUM(M5:M14)*N2+(M16*N2)*6/5+(M15*N2)*4/5+SUM(N5:N16) -> 0 | P18: =SUM(P5:P16) -> 0 | Q18: =SUM(P5:P14)*Q2+(P16*Q2)*6/5+(P15*Q2)*4/5+SUM(Q5:Q16) -> 0 | S18: =SUM(S5:S16) -> 0 | T18: =SUM(S5:S14)*T2+(S16*T2)*6/5+(S15*T2)*4/5+SUM(T5:T16) -> 0 | V18: =SUM(V5:V16) -> 2 | W18: =SUM(V5:V14)*W2+(V16*W2)*6/5+(V15*W2)*4/5+SUM(W5:W16) -> 48 | Y18: =SUM(Y5:Y16) -> 0 | Z18: =SUM(Y5:Y14)*Z2+(Y16*Z2)*5/4+(Y15*Z2)*4/5+SUM(Z5:Z14) -> 0 | AB18: =SUM(AB5:AB16) -> 0 | AC18: =SUM(AB5:AB14)*AC2+(AB16*AC2)*5/4+(AB15*AC2)*4/5+SUM(AC5:AC14) -> 0
B21: Coste Neto | D21: =E18+H18+K18+N18+Q18+T18+W18+Z18+AC18 -> 48

Sheet Industria
E3: Industria | F3: Comida | G3: Varios | H3: Petroleo | I3: Carbon | J3: Hierro | K3: Exóticos | L3: Bienes
C5: En Stock | F5: 3.659589 | G5: 0 | H5: 2 | I5: 12.625 | J5: 12.625 | K5: 14.763249 | L5: 1.793256
C6: Producidos | E6: 38 | F6: 35 | G6: 6 | H6: 1 | I6: 16 | J6: 15 | K6: 4 | L6: 0
C7: Importados | E7: 0 | F7: =Importación!D18 -> 0 | G7: =Importación!G18 -> 0 | H7: =Importación!J18 -> 0 | I7: =Importación!M18 -> 0 | J7: =Importación!P18 -> 0 | K7: =Importación!S18 -> 3 | L7: =Importación!V18 -> 0
C8: Exportados | E8: 0 | F8: =Exportación!D18 -> 0 | G8: =Exportación!G18 -> 0 | H8: =Exportación!J18 -> 0 | I8: =Exportación!M18 -> 0 | J8: =Exportación!P18 -> 0 | K8: =Exportación!S18 -> 0 | L8: =Exportación!V18 -> 2
C9: Uso interno | E9: =Inversiones!M51 -> 0 | F9: =VLOOKUP(Sumario!J4,Sumario!N4:R10,3,0)*Sumario!D3/1000 -> 34.842 | I9: =Inversiones!N51 -> 0 | J9: =Inversiones!O51 -> 0 | K9: =VLOOKUP(Sumario!J4,Sumario!N4:R10,4,0)*Sumario!D3/1000 -> 13.9368 | L9: =VLOOKUP(Sumario!J4,Sumario!N4:R10,2,0)*Sumario!D3/1000 -> 15.485333
C10: Uso militar | E10: =Militar!E33+Militar!E41 -> 0 | F10: 0 | I10: =Militar!F33+Militar!F41 -> 0 | J10: =Militar!G33+Militar!G41+'Instalaciones Militares'!E21 -> 0
C11: Logística | N11: =IF((I11*Importación!N2)>Transporte!N7+Militar!T51+(0.2*Militar!P26*Importación!N2),"ERROR: No puedes gastar en carbón una cantidad mayor que "&(((Transporte!N7+Militar!T51)/10)+(0.2*Militar!P26))&" .",IF((F11*Importación!E2)>(Militar!T26-0.2*Militar!P26),"ERROR: No puedes gastar en comida una cantidad mayor que "&((Militar!T26/10)-0.2*Militar!P26)&" .",""))
C12: Bienes (1) | F12: 0 | G12: =E12 -> 0 | I12: 0 | J12: 0 | K12: 0 | L12: =E12 -> 0
C13: Bienes (2) | F13: 0 | G13: 0 | I13: =E13/2 -> 0 | J13: =E13/2 -> 0 | K13: 0 | L13: =E13 -> 0
C14: Bienes (3) | H14: =E14 -> 0 | L14: =H14 -> 0
C15: Exóticos | F15: 0 | G15: 0 | I15: 0 | J15: 0 | K15: =E15 -> 0 | L15: 0
C16: Otros usos
A18: =OR(C21=TRUE,K18>0.000001,L18>0.000001) -> TRUE | C18: Resultante | E18: =ROUND(E5+E6+E7-E8-E9-E10-E12-E13-E15-E16,6) -> 38 | F18: =ROUND(F5+F6+F7-F8-F9-F10-F11-F12-F13-F15-F16,6) -> 3.817589 | G18: =ROUND(G5+G6+G7-G8-G9-G10-G12-G13-G15-G16,6) -> 6 | H18: =ROUND(H5+H6+H7-H8-H11-H14-H16,6) -> 3 | I18: =ROUND(I5+I6+I7-I8-I9-I10-I11-I12-I13-I15-I16,6) -> 28.625 | J18: =ROUND(J5+J6+J7-J8-J9-J10-J12-J13-J15-J16,6) -> 27.625 | K18: =ROUND(K5+K6+K7-K8-K9-K10-K12-K13+K15-K16,6) -> 7.826449 | L18: =ROUND(L5+L6+L7-L8-L9-L10+L12+L13-L16,6) -> -15.692077 | N18: =IF(A18=TRUE,"ERROR: No puede haber valores negativos en esta fila","") -> ERROR: No puede haber valores negativos en esta fila
C21: =OR(E18>0.000001,F18>0.000001,G18>0.000001,I18>0.000001,J18>0.000001) -> TRUE

Sheet Militar
W2: si | X2: Coste básico de la unidad: | Z2: 10
C3: EFECTIVOS MILITARES | M3: DISTRIBUCIÓN DE LOS EFECTIVOS TERRESTRES | W3: no
Y4: A | Z4: B | AA4: C | AB4: D | AC4: E | AD4: F
C5: EJERCITO DE TIERRA | M5: Regulares | N5: con M.G. | O5: Caballeria | P5: Asedio | Q5: Total | R5: Situación | S5: Destino | T5: Coste | X5: Acorazados | Y5: 10 | Z5: 8 | AA5: 7 | AB5: 6 | AC5: 6 | AD5: 5
D6: Nº divisiones | E6: Nº tropas | F6: Entrenamiento | G6: Tecnología | H6: Mantenimiento | L6: 1º Ejercito | M6: 8.5 | N6: no | O6: 6 | Q6: =M6+O6+P6 -> 14.5 | R6: Sudeste | T6: =IF(S6<>"",IF(N6="si",((M6+O6)*(Importación!$E$2*0.4))+(M6*Importación!$N$2*0.1)+((0.2*Importación!$N$2+0.05*Importación!$E$2)*P6),((M6+O6)*(Importación!$E$2*0.4))+((0.2*Importación!$N$2+0.05*Importación!$E$2)*P6)),0) -> 0 | V6: =IF(M6<>"",IF(N6<>"","","ERROR: DEBES ESPECIFICAR SI TU UNIDADES DE INFANTERIA MONTAN AMETRALLADORAS"),IF(N6<>"","ERROR: HAS ESPECIFICADO QUE TUS UNIDADES LLEVAN AMETRALLADORAS, PERO NO HAS MARCADO NADA EN LA CASILLA DE LA INFANTERIA","")) | X6: Cruceros | Y6: 6 | Z6: 5 | AA6: 5 | AB6: 4 | AC6: 4 | AD6: 3
C7: Inf. Regular | D7: 18 | E7: =D7*20000 -> 360000 | F7: =Investigación!E6 -> B | G7: B | H7: =1*D7 -> 18 | L7: 2º Ejercito | M7: 2.5 | N7: no | O7: 1 | Q7: =M7+O7+P7 -> 3.5 | R7: Sudoeste | T7: =IF(S7<>"",IF(N7="si",((M7+O7)*(Importación!$E$2*0.4))+(M7*Importación!$N$2*0.1)+((0.2*Importación!$N$2+0.05*Importación!$E$2)*P7),((M7+O7)*(Importación!$E$2*0.4))+((0.2*Importación!$N$2+0.05*Importación!$E$2)*P7)),0) -> 0 | V7: =IF(M7<>"",IF(N7<>"","","ERROR: DEBES ESPECIFICAR SI TU UNIDADES DE INFANTERIA MONTAN AMETRALLADORAS"),IF(N7<>"","ERROR: HAS ESPECIFICADO QUE TUS UNIDADES LLEVAN AMETRALLADORAS, PERO NO HAS MARCADO NADA EN LA CASILLA DE LA INFANTERIA","")) | X7: Buques menores | Y7: 3 | Z7: 3 | AA7: 2 | AB7: 2 | AC7: 2 | AD7: 0
C8: Inf. Reserva | D8: 25 | E8: =D8*20000 -> 500000 | F8: =Investigación!E7 -> D | G8: D | H8: =0.25*D8 -> 6.25 | L8: 3º Ejercito | M8: 2.5 | N8: no | O8: 1 | Q8: =M8+O8+P8 -> 3.5 | R8: Nordeste | T8: =IF(S8<>"",IF(N8="si",((M8+O8)*(Importación!$E$2*0.4))+(M8*Importación!$N$2*0.1)+((0.2*Importación!$N$2+0.05*Importación!$E$2)*P8),((M8+O8)*(Importación!$E$2*0.4))+((0.2*Importación!$N$2+0.05*Importación!$E$2)*P8)),0) -> 0 | V8: =IF(M8<>"",IF(N8<>"","","ERROR: DEBES ESPECIFICAR SI TU UNIDADES DE INFANTERIA MONTAN AMETRALLADORAS"),IF(N8<>"","ERROR: HAS ESPECIFICADO QUE TUS UNIDADES LLEVAN AMETRALLADORAS, PERO NO HAS MARCADO NADA EN LA CASILLA DE LA INFANTERIA","")) | X8: Submarinos | Y8: 6 | Z8: 5 | AA8: 5 | AB8: 4 | AC8: 4 | AD8: 4
C9: Caballeria | D9: 8 | E9: =D9*10000 -> 80000 | F9: =Investigación!E8 -> D | G9: B | H9: =2*D9 -> 16 | L9: 4º Ejercito | M9: 1 | N9: no | O9: 0 | Q9: =M9+O9+P9 -> 1 | R9: Noroeste | T9: =IF(S9<>"",IF(N9="si",((M9+O9)*(Importación!$E$2*0.4))+(M9*Importación!$N$2*0.1)+((0.2*Importación!$N$2+0.05*Importación!$E$2)*P9),((M9+O9)*(Importación!$E$2*0.4))+((0.2*Importación!$N$2+0.05*Importación!$E$2)*P9)),0) -> 0 | V9: =IF(M9<>"",IF(N9<>"","","ERROR: DEBES ESPECIFICAR SI TU UNIDADES DE INFANTERIA MONTAN AMETRALLADORAS"),IF(N9<>"","ERROR: HAS ESPECIFICADO QUE TUS UNIDADES LLEVAN AMETRALLADORAS, PERO NO HAS MARCADO NADA EN LA CASILLA DE LA INFANTERIA",""))
C10: Unid. Asedio | D10: 0 | E10: =D10*5000 -> 0 | F10: =Investigación!E9 -> D | G10: F | H10: =4*D10 -> 0 | L10: 5º Ejercito | M10: 0.5 | N10: no | O10: 0 | Q10: =M10+O10+P10 -> 0.5 | R10: Alaska | T10: =IF(S10<>"",IF(N10="si",((M10+O10)*(Importación!$E$2*0.4))+(M10*Importación!$N$2*0.1)+((0.2*Importación!$N$2+0.05*Importación!$E$2)*P10),((M10+O10)*(Importación!$E$2*0.4))+((0.2*Importación!$N$2+0.05*Importación!$E$2)*P10)),0) -> 0 | V10: =IF(M10<>"",IF(N10<>"","","ERROR: DEBES ESPECIFICAR SI TU UNIDADES DE INFANTERIA MONTAN AMETRALLADORAS"),IF(N10<>"","ERROR: HAS ESPECIFICADO QUE TUS UNIDADES LLEVAN AMETRALLADORAS, PERO NO HAS MARCADO NADA EN LA CASILLA DE LA INFANTERIA",""))
C11: Total | D11: =SUM(D7:D10) -> 51 | E11: =SUM(E7:E10) -> 940000 | H11: =SUM(H7:H10) -> 40.25 | L11: 6º Ejercito | M11: 3 | N11: no | O11: 0 | Q11: =M11+O11+P11 -> 3 | R11: Colombia | T11: =IF(S11<>"",IF(N11="si",((M11+O11)*(Importación!$E$2*0.4))+(M11*Importación!$N$2*0.1)+((0.2*Importación!$N$2+0.05*Importación!$E$2)*P11),((M11+O11)*(Importación!$E$2*0.4))+((0.2*Importación!$N$2+0.05*Importación!$E$2)*P11)),0) -> 0 | V11: =IF(M11<>"",IF(N11<>"","","ERROR: DEBES ESPECIFICAR SI TU UNIDADES DE INFANTERIA MONTAN AMETRALLADORAS"),IF(N11<>"","ERROR: HAS ESPECIFICADO QUE TUS UNIDADES LLEVAN AMETRALLADORAS, PERO NO HAS MARCADO NADA EN LA CASILLA DE LA INFANTERIA","")) | X11: Armas ligeras | Y11: 0.5 | Z11: 0.5 | AA11: 0.375 | AB11: 0.375 | AC11: 0.375 | AD11: 0.375
C12: MARINA | L12: 7º Ejercito | Q12: =M12+O12+P12 -> 0 | T12: =IF(S12<>"",IF(N12="si",((M12+O12)*(Importación!$E$2*0.4))+(M12*Importación!$N$2*0.1)+((0.2*Importación!$N$2+0.05*Importación!$E$2)*P12),((M12+O12)*(Importación!$E$2*0.4))+((0.2*Importación!$N$2+0.05*Importación!$E$2)*P12)),0) -> 0 | V12: =IF(M12<>"",IF(N12<>"","","ERROR: DEBES ESPECIFICAR SI TU UNIDADES DE INFANTERIA MONTAN AMETRALLADORAS"),IF(N12<>"","ERROR: HAS ESPECIFICADO QUE TUS UNIDADES LLEVAN AMETRALLADORAS, PERO NO HAS MARCADO NADA EN LA CASILLA DE LA INFANTERIA","")) | X12: Ametralladoras | Y12: 0.5 | Z12: 0.5 | AA12: 0.375 | AB12: 0.375 | AC12: 0.375 | AD12: 0.375
D13: Nº unidades | E13: Nº tropas | F13: Entrenamiento | G13: Tecnología | H13: Mantenimiento | L13: 8º Ejercito | Q13: =M13+O13+P13 -> 0 | T13: =IF(S13<>"",IF(N13="si",((M13+O13)*(Importación!$E$2*0.4))+(M13*Importación!$N$2*0.1)+((0.2*Importación!$N$2+0.05*Importación!$E$2)*P13),((M13+O13)*(Importación!$E$2*0.4))+((0.2*Importación!$N$2+0.05*Importación!$E$2)*P13)),0) -> 0 | V13: =IF(M13<>"",IF(N13<>"","","ERROR: DEBES ESPECIFICAR SI TU UNIDADES DE INFANTERIA MONTAN AMETRALLADORAS"),IF(N13<>"","ERROR: HAS ESPECIFICADO QUE TUS UNIDADES LLEVAN AMETRALLADORAS, PERO NO HAS MARCADO NADA EN LA CASILLA DE LA INFANTERIA","")) | X13: Artilleria de campaña | Y13: 2 | Z13: 1.75 | AA13: 1.75 | AB13: 1.5 | AC13: 1.5 | AD13: 1.5
C14: Acorazados | D14: 30 | E14: =D14*1000 -> 30000 | F14: =Investigación!E10 -> D | G14: D | H14: =0.7*D14 -> 21 | L14: 9º Ejercito | Q14: =M14+O14+P14 -> 0 | T14: =IF(S14<>"",IF(N14="si",((M14+O14)*(Importación!$E$2*0.4))+(M14*Importación!$N$2*0.1)+((0.2*Importación!$N$2+0.05*Importación!$E$2)*P14),((M14+O14)*(Importación!$E$2*0.4))+((0.2*Importación!$N$2+0.05*Importación!$E$2)*P14)),0) -> 0 | V14: =IF(M14<>"",IF(N14<>"","","ERROR: DEBES ESPECIFICAR SI TU UNIDADES DE INFANTERIA MONTAN AMETRALLADORAS"),IF(N14<>"","ERROR: HAS ESPECIFICADO QUE TUS UNIDADES LLEVAN AMETRALLADORAS, PERO NO HAS MARCADO NADA EN LA CASILLA DE LA INFANTERIA","")) | X14: Artilleria de asedio | Y14: 9 | Z14: 8 | AA14: 7 | AB14: 6 | AC14: 6 | AD14: 6
C15: Cruceros | D15: 58 | E15: =D15*500 -> 29000 | F15: =Investigación!E11 -> D | G15: D | H15: =0.5*D15 -> 29 | L15: 10º Ejercito | Q15: =M15+O15+P15 -> 0 | T15: =IF(S15<>"",IF(N15="si",((M15+O15)*(Importación!$E$2*0.4))+(M15*Importación!$N$2*0.1)+((0.2*Importación!$N$2+0.05*Importación!$E$2)*P15),((M15+O15)*(Importación!$E$2*0.4))+((0.2*Importación!$N$2+0.05*Importación!$E$2)*P15)),0) -> 0 | V15: =IF(M15<>"",IF(N15<>"","","ERROR: DEBES ESPECIFICAR SI TU UNIDADES DE INFANTERIA MONTAN AMETRALLADORAS"),IF(N15<>"","ERROR: HAS ESPECIFICADO QUE TUS UNIDADES LLEVAN AMETRALLADORAS, PERO NO HAS MARCADO NADA EN LA CASILLA DE LA INFANTERIA",""))
C16: Buques menores | D16: 135 | E16: =D16*200 -> 27000 | F16: =Investigación!E12 -> D | G16: D | H16: =0.2*D16 -> 27 | L16: 11º Ejercito | Q16: =M16+O16+P16 -> 0 | T16: =IF(S16<>"",IF(N16="si",((M16+O16)*(Importación!$E$2*0.4))+(M16*Importación!$N$2*0.1)+((0.2*Importación!$N$2+0.05*Importación!$E$2)*P16),((M16+O16)*(Importación!$E$2*0.4))+((0.2*Importación!$N$2+0.05*Importación!$E$2)*P16)),0) -> 0 | V16: =IF(M16<>"",IF(N16<>"","","ERROR: DEBES ESPECIFICAR SI TU UNIDADES DE INFANTERIA MONTAN AMETRALLADORAS"),IF(N16<>"","ERROR: HAS ESPECIFICADO QUE TUS UNIDADES LLEVAN AMETRALLADORAS, PERO NO HAS MARCADO NADA EN LA CASILLA DE LA INFANTERIA",""))
C17: Submarinos | D17: 0 | E17: =D17*70 -> 0 | F17: =Investigación!E13 -> D | G17: F | H17: =0.5*D17 -> 0 | L17: 12º Ejercito | Q17: =M17+O17+P17 -> 0 | T17: =IF(S17<>"",IF(N17="si",((M17+O17)*(Importación!$E$2*0.4))+(M17*Importación!$N$2*0.1)+((0.2*Importación!$N$2+0.05*Importación!$E$2)*P17),((M17+O17)*(Importación!$E$2*0.4))+((0.2*Importación!$N$2+0.05*Importación!$E$2)*P17)),0) -> 0 | V17: =IF(M17<>"",IF(N17<>"","","ERROR: DEBES ESPECIFICAR SI TU UNIDADES DE INFANTERIA MONTAN AMETRALLADORAS"),IF(N17<>"","ERROR: HAS ESPECIFICADO QUE TUS UNIDADES LLEVAN AMETRALLADORAS, PERO NO HAS MARCADO NADA EN LA CASILLA DE LA INFANTERIA",""))
C18: Transportes | D18: 4 | E18: =D18*100 -> 400 | F18: =Investigación!E14 -> D | G18: =Investigación!E33 -> ---- | H18: =0.2*D18 -> 0.8 | L18: 13º Ejercito | Q18: =M18+O18+P18 -> 0 | T18: =IF(S18<>"",IF(N18="si",((M18+O18)*(Importación!$E$2*0.4))+(M18*Importación!$N$2*0.1)+((0.2*Importación!$N$2+0.05*Importación!$E$2)*P18),((M18+O18)*(Importación!$E$2*0.4))+((0.2*Importación!$N$2+0.05*Importación!$E$2)*P18)),0) -> 0 | V18: =IF(M18<>"",IF(N18<>"","","ERROR: DEBES ESPECIFICAR SI TU UNIDADES DE INFANTERIA MONTAN AMETRALLADORAS"),IF(N18<>"","ERROR: HAS ESPECIFICADO QUE TUS UNIDADES LLEVAN AMETRALLADORAS, PERO NO HAS MARCADO NADA EN LA CASILLA DE LA INFANTERIA",""))
C19: Total | D19: =SUM(D14:D18) -> 227 | E19: =SUM(E14:E18) -> 86400 | H19: =SUM(H14:H18) -> 77.8 | L19: 14º Ejercito | Q19: =M19+O19+P19 -> 0 | T19: =IF(S19<>"",IF(N19="si",((M19+O19)*(Importación!$E$2*0.4))+(M19*Importación!$N$2*0.1)+((0.2*Importación!$N$2+0.05*Importación!$E$2)*P19),((M19+O19)*(Importación!$E$2*0.4))+((0.2*Importación!$N$2+0.05*Importación!$E$2)*P19)),0) -> 0 | V19: =IF(M19<>"",IF(N19<>"","","ERROR: DEBES ESPECIFICAR SI TU UNIDADES DE INFANTERIA MONTAN AMETRALLADORAS"),IF(N19<>"","ERROR: HAS ESPECIFICADO QUE TUS UNIDADES LLEVAN AMETRALLADORAS, PERO NO HAS MARCADO NADA EN LA CASILLA DE LA INFANTERIA",""))
L20: 15º Ejercito | Q20: =M20+O20+P20 -> 0 | T20: =IF(S20<>"",IF(N20="si",((M20+O20)*(Importación!$E$2*0.4))+(M20*Importación!$N$2*0.1)+((0.2*Importación!$N$2+0.05*Importación!$E$2)*P20),((M20+O20)*(Importación!$E$2*0.4))+((0.2*Importación!$N$2+0.05*Importación!$E$2)*P20)),0) -> 0 | V20: =IF(M20<>"",IF(N20<>"","","ERROR: DEBES ESPECIFICAR SI TU UNIDADES DE INFANTERIA MONTAN AMETRALLADORAS"),IF(N20<>"","ERROR: HAS ESPECIFICADO QUE TUS UNIDADES LLEVAN AMETRALLADORAS, PERO NO HAS MARCADO NADA EN LA CASILLA DE LA INFANTERIA",""))
L21: 16º Ejercito | Q21: =M21+O21+P21 -> 0 | T21: =IF(S21<>"",IF(N21="si",((M21+O21)*(Importación!$E$2*0.4))+(M21*Importación!$N$2*0.1)+((0.2*Importación!$N$2+0.05*Importación!$E$2)*P21),((M21+O21)*(Importación!$E$2*0.4))+((0.2*Importación!$N$2+0.05*Importación!$E$2)*P21)),0) -> 0 | V21: =IF(M21<>"",IF(N21<>"","","ERROR: DEBES ESPECIFICAR SI TU UNIDADES DE INFANTERIA MONTAN AMETRALLADORAS"),IF(N21<>"","ERROR: HAS ESPECIFICADO QUE TUS UNIDADES LLEVAN AMETRALLADORAS, PERO NO HAS MARCADO NADA EN LA CASILLA DE LA INFANTERIA",""))
L22: 17º Ejercito | Q22: =M22+O22+P22 -> 0 | T22: =IF(S22<>"",IF(N22="si",((M22+O22)*(Importación!$E$2*0.4))+(M22*Importación!$N$2*0.1)+((0.2*Importación!$N$2+0.05*Importación!$E$2)*P22),((M22+O22)*(Importación!$E$2*0.4))+((0.2*Importación!$N$2+0.05*Importación!$E$2)*P22)),0) -> 0 | V22: =IF(M22<>"",IF(N22<>"","","ERROR: DEBES ESPECIFICAR SI TU UNIDADES DE INFANTERIA MONTAN AMETRALLADORAS"),IF(N22<>"","ERROR: HAS ESPECIFICADO QUE TUS UNIDADES LLEVAN AMETRALLADORAS, PERO NO HAS MARCADO NADA EN LA CASILLA DE LA INFANTERIA",""))
L23: 18º Ejercito | Q23: =M23+O23+P23 -> 0 | T23: =IF(S23<>"",IF(N23="si",((M23+O23)*(Importación!$E$2*0.4))+(M23*Importación!$N$2*0.1)+((0.2*Importación!$N$2+0.05*Importación!$E$2)*P23),((M23+O23)*(Importación!$E$2*0.4))+((0.2*Importación!$N$2+0.05*Importación!$E$2)*P23)),0) -> 0 | V23: =IF(M23<>"",IF(N23<>"","","ERROR: DEBES ESPECIFICAR SI TU UNIDADES DE INFANTERIA MONTAN AMETRALLADORAS"),IF(N23<>"","ERROR: HAS ESPECIFICADO QUE TUS UNIDADES LLEVAN AMETRALLADORAS, PERO NO HAS MARCADO NADA EN LA CASILLA DE LA INFANTERIA",""))
L24: 19º Ejercito | Q24: =M24+O24+P24 -> 0 | T24: =IF(S24<>"",IF(N24="si",((M24+O24)*(Importación!$E$2*0.4))+(M24*Importación!$N$2*0.1)+((0.2*Importación!$N$2+0.05*Importación!$E$2)*P24),((M24+O24)*(Importación!$E$2*0.4))+((0.2*Importación!$N$2+0.05*Importación!$E$2)*P24)),0) -> 0 | V24: =IF(M24<>"",IF(N24<>"","","ERROR: DEBES ESPECIFICAR SI TU UNIDADES DE INFANTERIA MONTAN AMETRALLADORAS"),IF(N24<>"","ERROR: HAS ESPECIFICADO QUE TUS UNIDADES LLEVAN AMETRALLADORAS, PERO NO HAS MARCADO NADA EN LA CASILLA DE LA INFANTERIA",""))
C25: CONSTRUCCIÓN DE NUEVOS EFECTIVOS MILITARES | L25: 20º Ejercito | Q25: =M25+O25+P25 -> 0 | T25: =IF(S25<>"",IF(N25="si",((M25+O25)*(Importación!$E$2*0.4))+(M25*Importación!$N$2*0.1)+((0.2*Importación!$N$2+0.05*Importación!$E$2)*P25),((M25+O25)*(Importación!$E$2*0.4))+((0.2*Importación!$N$2+0.05*Importación!$E$2)*P25)),0) -> 0 | V25: =IF(M25<>"",IF(N25<>"","","ERROR: DEBES ESPECIFICAR SI TU UNIDADES DE INFANTERIA MONTAN AMETRALLADORAS"),IF(N25<>"","ERROR: HAS ESPECIFICADO QUE TUS UNIDADES LLEVAN AMETRALLADORAS, PERO NO HAS MARCADO NADA EN LA CASILLA DE LA INFANTERIA",""))
M26: =SUM(M6:M25) -> 18 | N26: =SUM(N6:N25) -> 0 | O26: =SUM(O6:O25) -> 8 | P26: =SUM(P6:P25) -> 0 | Q26: =SUM(Q6:Q25) -> 26 | R26: =SUM(R6:R25) -> 0 | S26: =SUM(S6:S25) -> 0 | T26: =SUM(T6:T25) -> 0
C27: EJERCITO DE TIERRA
D28: Nº divisiones | E28: Industria | F28: Carbón | G28: Hierro | H28: Dinero | M28: DISTRIBUCION DE LOS EFECTIVOS NAVALES
C29: Inf. Regular | E29: =0.125*$D$29 -> 0 | F29: =0.125*$D$29 -> 0 | G29: =0.125*$D$29 -> 0 | H29: =D29*($Z$2+HLOOKUP($G$7,$Y$4:$AD$14,8,0)*3/4+HLOOKUP($G$7,$Y$4:$AD$14,10,0)/4) -> 0
C30: Inf. Reserva | E30: =0.125*$D$30 -> 0 | F30: =0.125*$D$30 -> 0 | G30: =0.125*$D$30 -> 0 | H30: =D30*($Z$2+HLOOKUP($G$7,$Y$4:$AD$14,8,0)*3/4+HLOOKUP($G$7,$Y$4:$AD$14,10,0)/4) -> 0 | M30: Acorazados | N30: Cruceros | O30: Buques | P30: Submarinos | Q30: Transportes | R30: Situación | S30: Destino | T30: Coste
C31: Caballeria | E31: =0.25*$D$31 -> 0 | F31: =0.25*$D$31 -> 0 | G31: =0.25*$D$31 -> 0 | H31: =D31*($Z$2+HLOOKUP($G$7,$Y$4:$AD$14,8,0)) -> 0 | L31: 1ª Flota | M31: 10 | N31: 20 | O31: 40 | R31: Boston | T31: =IF(S31<>"",M31*1.2+(N31+P31)*0.6+(O31+Q31)*0.3,0) -> 0
C32: Unid. Asedio | E32: =0.5*$D$32 -> 0 | F32: =0.5*$D$32 -> 0 | G32: =0.5*$D$32 -> 0 | H32: =D32*($Z$2+HLOOKUP($G$7,$Y$4:$AD$14,11,0)) -> 0 | L32: 2ª Flota | M32: 10 | N32: 20 | O32: 40 | Q32: 3 | R32: Baltimore | T32: =IF(S32<>"",M32*1.2+(N32+P32)*0.6+(O32+Q32)*0.3,0) -> 0
C33: Total | D33: =SUM(D29:D32) -> 0 | E33: =SUM(E29:E32) -> 0 | F33: =SUM(F29:F32) -> 0 | G33: =SUM(G29:G32) -> 0 | H33: =SUM(H29:H32) -> 0 | L33: 3ª Flota | M33: 5 | N33: 10 | O33: 21 | Q33: 1 | R33: Los Ángeles | T33: =IF(S33<>"",M33*1.2+(N33+P33)*0.6+(O33+Q33)*0.3,0) -> 0
C34: MARINA | L34: 4ª Flota | M34: 5 | N34: 7 | O34: 20 | R34: Seattle | T34: =IF(S34<>"",M34*1.2+(N34+P34)*0.6+(O34+Q34)*0.3,0) -> 0
D35: Nº unidades | E35: Industria | F35: Carbón | G35: Hierro | H35: Dinero | L35: 5ª Flota | N35: 2 | O35: 7 | Q35: 2 | R35: Cartagena | T35: =IF(S35<>"",M35*1.2+(N35+P35)*0.6+(O35+Q35)*0.3,0) -> 0
C36: Acorazados | E36: =0.2*D36 -> 0 | F36: =0.2*D36 -> 0 | G36: =0.2*D36 -> 0 | H36: =D36*HLOOKUP(G14,$Y$4:$AD$9,2,0) -> 0 | L36: 6ª Flota | N36: 2 | O36: 7 | R36: Caracas | T36: =IF(S36<>"",M36*1.2+(N36+P36)*0.6+(O36+Q36)*0.3,0) -> 0
C37: Cruceros | E37: =0.1*D37 -> 0 | F37: =0.1*D37 -> 0 | G37: =0.1*D37 -> 0 | H37: =D37*HLOOKUP(G15,$Y$4:$AD$9,3,0) -> 0 | L37: 7ª Flota | T37: =IF(S37<>"",M37*1.2+(N37+P37)*0.6+(O37+Q37)*0.3,0) -> 0
C38: Buques menores | E38: =0.05*D38 -> 0 | F38: =0.05*D38 -> 0 | G38: =0.05*D38 -> 0 | H38: =D38*HLOOKUP(G16,$Y$4:$AD$9,4,0) -> 0 | L38: 8ª Flota | T38: =IF(S38<>"",M38*1.2+(N38+P38)*0.6+(O38+Q38)*0.3,0) -> 0
C39: Submarinos | E39: =0.1*D39 -> 0 | F39: =0.1*D39 -> 0 | G39: =0.1*D39 -> 0 | H39: =D39*HLOOKUP(G17,$Y$4:$AD$9,5,0) -> 0 | L39: 9ª Flota | T39: =IF(S39<>"",M39*1.2+(N39+P39)*0.6+(O39+Q39)*0.3,0) -> 0
C40: Transportes | E40: =0.05*D40 -> 0 | F40: =0.05*D40 -> 0 | G40: =0.05*D40 -> 0 | H40: =D40*4 -> 0 | L40: 10ª Flota | T40: =IF(S40<>"",M40*1.2+(N40+P40)*0.6+(O40+Q40)*0.3,0) -> 0
C41: Total | D41: =SUM(D36:D40) -> 0 | E41: =SUM(E36:E40) -> 0 | F41: =SUM(F36:F40) -> 0 | G41: =SUM(G36:G40) -> 0 | H41: =SUM(H37:H40) -> 0 | L41: 11ª Flota | T41: =IF(S41<>"",M41*1.2+(N41+P41)*0.6+(O41+Q41)*0.3,0) -> 0
...

Sheet Investigación
C3: ENTRENAMIENTO DE TROPAS | L3: Mantener
L4: SI
D5: Validar | E5: Nivel | F5: Coste | L5: NO
C6: Inf. Regular | D6: NO | E6: B | F6: =IF(D6="SI",Militar!D7,0) -> 0 | L6: A | M6: B | N6: C | O6: D | P6: E | Q6: F
C7: Inf. Reserva | D7: NO | E7: D | F7: =IF(D7="SI",Militar!D8,0) -> 0 | L7: 0 | M7: 60 | N7: 50 | O7: 40 | P7: 30 | Q7: 50
C8: Caballeria | D8: SI | E8: D | F8: =IF(D8="SI",Militar!D9,0) -> 8 | L8: I | M8: II | N8: III
C9: Unid. Asedio | D9: NO | E9: D | F9: =IF(D9="SI",Militar!D10,0) -> 0 | L9: 40 | M9: 50 | N9: 60
C10: Acorazados | D10: NO | E10: D | F10: =IF(D10="SI",2*Militar!D14,0) -> 0
C11: Cruceros | D11: NO | E11: D | F11: =IF(D11="SI",Militar!D15,0) -> 0
C12: Buques menores | D12: NO | E12: D | F12: =IF(D12="SI",0.5*Militar!D16,0) -> 0
C13: Submarinos | D13: NO | E13: D | F13: =IF(D13="SI",Militar!D17,0) -> 0
C14: Transportes | D14: NO | E14: D | F14: =IF(D14="SI",0.5*Militar!D18,0) -> 0
C16: Total | F16: =SUM(F6:F14) -> 8
C21: TECNOLOGÍA MILITAR
D23: Mejorar | E23: Nivel | F23: Coste
C24: Industria Sintética | D24: SI | E24: I | F24: =IF(D24="SI",HLOOKUP(E24,$L$8:$N$9,2,0),IF(D25="Mantener",5,0)) -> 40
C25: Armas ligeras | D25: NO | E25: B | F25: =IF(D25="SI",HLOOKUP(E25,$M$6:$Q$10,2,0),IF(D25="Mantener",5,0)) -> 0
C26: Ametralladoras | D26: SI | E26: C | F26: =IF(D26="SI",HLOOKUP(E26,$M$6:$Q$10,2,0),IF(D26="Mantener",5,0)) -> 50
C27: Artilleria de campaña | D27: NO | E27: B | F27: =IF(D27="SI",HLOOKUP(E27,$M$6:$Q$10,2,0),IF(D27="Mantener",5,0)) -> 0
C28: Artilleria de asedio | D28: SI | E28: E | F28: =IF(D28="SI",HLOOKUP(E28,$M$6:$Q$10,2,0),IF(D28="Mantener",5,0)) -> 30
C29: Acorazados | D29: NO | E29: A | F29: =IF(D29="SI",HLOOKUP(E29,$M$6:$Q$10,2,0),IF(D29="Mantener",5,0)) -> 0
C30: Cruceros | D30: NO | E30: B | F30: =IF(D30="SI",HLOOKUP(E30,$M$6:$Q$10,2,0),IF(D30="Mantener",5,0)) -> 0
C31: Buques menores | D31: NO | E31: B | F31: =IF(D31="SI",HLOOKUP(E31,$M$6:$Q$10,2,0),IF(D31="Mantener",5,0)) -> 0
C32: Submarinos | D32: NO | E32: F | F32: =IF(D32="SI",HLOOKUP(E32,$M$6:$Q$10,2,0),IF(D32="Mantener",5,0)) -> 0
C33: Transportes | D33: N/A | E33: ---- | F33: =IF(D33="SI",HLOOKUP(E33,$M$6:$Q$10,2,0),IF(D33="Mantener",5,0)) -> 0
C35: Total | F35: =SUM(F24:F33) -> 120

Sheet Inversiones
C3: INVERSIONES DISPONIBLES | K3: INVERSIONES A EJECUTAR
C5: Recurso | D5: Pais | E5: Coste | F5: Duración | J5: Inversión | L5: Coste | M5: Duración | N5: Industria | O5: Carbón | P5: Hierro | S5: Sin inversión | T5: 0 | U5: 1 | V5: Nada
C6: Exótico_Ferro | D6: Brasil | E6: 60 | F6: 1 | J6: Sin inversión | L6: =VLOOKUP(J6,$S$5:$U$49,2,0) -> 0 | M6: =VLOOKUP(J6,$S$5:$U$49,3,0) -> 1 | N6: =IF($M6=2,1,0) -> 0 | O6: =IF($M6=2,1,0) -> 0 | P6: =IF($M6=2,1,0) -> 0 | S6: =CONCATENATE(C6," / ",D6) -> Exótico_Ferro / Brasil | T6: =E6 -> 60 | U6: =F6 -> 1 | V6: Exótico
C7: Comida_Ferro | D7: Brasil | E7: 60 | F7: 1 | J7: Sin inversión | L7: =VLOOKUP(J7,$S$5:$U$49,2,0) -> 0 | M7: =VLOOKUP(J7,$S$5:$U$49,3,0) -> 1 | N7: =IF($M7=2,1,0) -> 0 | O7: =IF($M7=2,1,0) -> 0 | P7: =IF($M7=2,1,0) -> 0 | S7: =CONCATENATE(C7," / ",D7) -> Comida_Ferro / Brasil | T7: =E7 -> 60 | U7: =F7 -> 1 | V7: Industria
C8: Varios_Ferro | D8: Brasil | E8: 50 | F8: 1 | J8: Sin inversión | L8: =VLOOKUP(J8,$S$5:$U$49,2,0) -> 0 | M8: =VLOOKUP(J8,$S$5:$U$49,3,0) -> 1 | N8: =IF($M8=2,1,0) -> 0 | O8: =IF($M8=2,1,0) -> 0 | P8: =IF($M8=2,1,0) -> 0 | S8: =CONCATENATE(C8," / ",D8) -> Varios_Ferro / Brasil | T8: =E8 -> 50 | U8: =F8 -> 1 | V8: Exótico
C9: Exótico | D9: Mozambique | E9: 80 | F9: 1 | J9: Sin inversión | L9: =VLOOKUP(J9,$S$5:$U$49,2,0) -> 0 | M9: =VLOOKUP(J9,$S$5:$U$49,3,0) -> 1 | N9: =IF($M9=2,1,0) -> 0 | O9: =IF($M9=2,1,0) -> 0 | P9: =IF($M9=2,1,0) -> 0 | S9: =CONCATENATE(C9," / ",D9) -> Exótico / Mozambique | T9: =E9 -> 80 | U9: =F9 -> 1 | V9: Exótico
C10: Comida | D10: Rumania | E10: 65 | F10: 1 | J10: Sin inversión | L10: =VLOOKUP(J10,$S$5:$U$49,2,0) -> 0 | M10: =VLOOKUP(J10,$S$5:$U$49,3,0) -> 1 | N10: =IF($M10=2,1,0) -> 0 | O10: =IF($M10=2,1,0) -> 0 | P10: =IF($M10=2,1,0) -> 0 | S10: =CONCATENATE(C10," / ",D10) -> Comida / Rumania | T10: =E10 -> 65 | U10: =F10 -> 1 | V10: Comida
C11: Ferrocarril | D11: Rumania | E11: 35 | F11: 2 | J11: Sin inversión | L11: =VLOOKUP(J11,$S$5:$U$49,2,0) -> 0 | M11: =VLOOKUP(J11,$S$5:$U$49,3,0) -> 1 | N11: =IF($M11=2,1,0) -> 0 | O11: =IF($M11=2,1,0) -> 0 | P11: =IF($M11=2,1,0) -> 0 | S11: =CONCATENATE(C11," / ",D11) -> Ferrocarril / Rumania | T11: =E11 -> 35 | U11: =F11 -> 2 | V11: Ferrocarril
C12: Carbón | D12: Serbia | E12: 60 | F12: 1 | J12: Sin inversión | L12: =VLOOKUP(J12,$S$5:$U$49,2,0) -> 0 | M12: =VLOOKUP(J12,$S$5:$U$49,3,0) -> 1 | N12: =IF($M12=2,1,0) -> 0 | O12: =IF($M12=2,1,0) -> 0 | P12: =IF($M12=2,1,0) -> 0 | S12: =CONCATENATE(C12," / ",D12) -> Carbón / Serbia | T12: =E12 -> 60 | U12: =F12 -> 1 | V12: Carbón
C13: Hierro | D13: Suecia | E13: 50 | F13: 1 | J13: Sin inversión | L13: =VLOOKUP(J13,$S$5:$U$49,2,0) -> 0 | M13: =VLOOKUP(J13,$S$5:$U$49,3,0) -> 1 | N13: =IF($M13=2,1,0) -> 0 | O13: =IF($M13=2,1,0) -> 0 | P13: =IF($M13=2,1,0) -> 0 | S13: =CONCATENATE(C13," / ",D13) -> Hierro / Suecia | T13: =E13 -> 50 | U13: =F13 -> 1 | V13: Hierro
C14: Hierro | D14: Suecia | E14: 50 | F14: 1 | J14: Sin inversión | L14: =VLOOKUP(J14,$S$5:$U$49,2,0) -> 0 | M14: =VLOOKUP(J14,$S$5:$U$49,3,0) -> 1 | N14: =IF($M14=2,1,0) -> 0 | O14: =IF($M14=2,1,0) -> 0 | P14: =IF($M14=2,1,0) -> 0 | S14: =CONCATENATE(C14," / ",D14) -> Hierro / Suecia | T14: =E14 -> 50 | U14: =F14 -> 1 | V14: Hierro
C15: Exótico | D15: Hawai | E15: 65 | F15: 1 | J15: Sin inversión | L15: =VLOOKUP(J15,$S$5:$U$49,2,0) -> 0 | M15: =VLOOKUP(J15,$S$5:$U$49,3,0) -> 1 | N15: =IF($M15=2,1,0) -> 0 | O15: =IF($M15=2,1,0) -> 0 | P15: =IF($M15=2,1,0) -> 0 | S15: =CONCATENATE(C15," / ",D15) -> Exótico / Hawai | T15: =E15 -> 65 | U15: =F15 -> 1 | V15: Exótico
C16: Exótico | D16: Laoss | E16: 65 | F16: 1 | J16: Sin inversión | L16: =VLOOKUP(J16,$S$5:$U$49,2,0) -> 0 | M16: =VLOOKUP(J16,$S$5:$U$49,3,0) -> 1 | N16: =IF($M16=2,1,0) -> 0 | O16: =IF($M16=2,1,0) -> 0 | P16: =IF($M16=2,1,0) -> 0 | S16: =CONCATENATE(C16," / ",D16) -> Exótico / Laoss | T16: =E16 -> 65 | U16: =F16 -> 1 | V16: Exótico
C17: Ferrocarril | D17: Persia | E17: 50 | F17: 2 | J17: Sin inversión | L17: =VLOOKUP(J17,$S$5:$U$49,2,0) -> 0 | M17: =VLOOKUP(J17,$S$5:$U$49,3,0) -> 1 | N17: =IF($M17=2,1,0) -> 0 | O17: =IF($M17=2,1,0) -> 0 | P17: =IF($M17=2,1,0) -> 0 | S17: =CONCATENATE(C17," / ",D17) -> Ferrocarril / Persia | T17: =E17 -> 50 | U17: =F17 -> 2 | V17: Ferrocarril
... C20: Ferrocarril | D20: Argentina | E20: 45 | F20: 2 | J20: Sin inversión | L20: =VLOOKUP(J20,$S$5:$U$49,2,0) -> 0 | M20: =VLOOKUP(J20,$S$5:$U$49,3,0) -> 1 | N20: =IF($M20=2,1,0) -> 0 | O20: =IF($M20=2,1,0) -> 0 | P20: =IF($M20=2,1,0) -> 0 | S20: =CONCATENATE(C20," / ",D20) -> Ferrocarril / Argentina | T20: =E20 -> 45 | U20: =F20 -> 2 | V20: Ferrocarril
C21: Comida | D21: Argentina | E21: 60 | F21: 1 | K21: Total: | L21: =SUM(L6:L20) -> 0 | N21: =SUM(N6:N20) -> 0 | O21: =SUM(O6:O20) -> 0 | P21: =SUM(P6:P20) -> 0 | S21: =CONCATENATE(C21," / ",D21) -> Comida / Argentina | T21: =E21 -> 60 | U21: =F21 -> 1 | V21: Comida
C22: Varios | D22: Argentina | E22: 65 | F22: 1 | S22: =CONCATENATE(C22," / ",D22) -> Varios / Argentina | T22: =E22 -> 65 | U22: =F22 -> 1 | V22: Varios
C23: Varios | D23: Argentina | E23: 65 | F23: 1 | S23: =CONCATENATE(C23," / ",D23) -> Varios / Argentina | T23: =E23 -> 65 | U23: =F23 -> 1 | V23: Varios
C24: Industria | D24: Argentina | E24: 90 | F24: 1 | S24: =CONCATENATE(C24," / ",D24) -> Industria / Argentina | T24: =E24 -> 90 | U24: =F24 -> 1 | V24: Industria
C25: Ferrocarril | D25: Brasil | E25: 45 | F25: 2 | S25: =CONCATENATE(C25," / ",D25) -> Ferrocarril / Brasil | T25: =E25 -> 45 | U25: =F25 -> 2 | V25: Ferrocarril
C26: Exótico | D26: Brasil | E26: 60 | F26: 1 | S26: =CONCATENATE(C26," / ",D26) -> Exótico / Brasil | T26: =E26 -> 60 | U26: =F26 -> 1 | V26: Exótico
C27: Exótico | D27: Brasil | E27: 60 | F27: 1 | S27: =CONCATENATE(C27," / ",D27) -> Exótico / Brasil | T27: =E27 -> 60 | U27: =F27 -> 1 | V27: Exótico
C28: Industria | D28: Brasil | E28: 85 | F28: 1 | S28: =CONCATENATE(C28," / ",D28) -> Industria / Brasil | T28: =E28 -> 85 | U28: =F28 -> 1 | V28: Industria
C29: Varios | D29: Brasil | E29: 70 | F29: 1 | K29: INVERSIONES EN EJECUCIÓN | S29: =CONCATENATE(C29," / ",D29) -> Varios / Brasil | T29: =E29 -> 70 | U29: =F29 -> 1 | V29: Varios
C30: Exótico | D30: Colombia | E30: 60 | F30: 1 | S30: =CONCATENATE(C30," / ",D30) -> Exótico / Colombia | T30: =E30 -> 60 | U30: =F30 -> 1 | V30: Exótico
C31: Comida | D31: Colombia | E31: 65 | F31: 1 | J31: Inversión | L31: Coste | M31: Duración | N31: Industria | O31: Carbón | P31: Hierro | S31: =CONCATENATE(C31," / ",D31) -> Comida / Colombia | T31: =E31 -> 65 | U31: =F31 -> 1 | V31: Comida
C32: Ferrocarril | D32: Colombia | E32: 65 | F32: 2 | J32: Industria / Nacional | L32: =VLOOKUP(J32,$S$5:$U$49,2,0) -> 65 | N32: =IF($M32=2,1,0) -> 0 | O32: =IF($M32=2,1,0) -> 0 | P32: =IF($M32=2,1,0) -> 0 | S32: =CONCATENATE(C32," / ",D32) -> Ferrocarril / Colombia | T32: =E32 -> 65 | U32: =F32 -> 2 | V32: Ferrocarril
C33: Canal de Panamá | D33: Colombia | E33: 64 | F33: 10 | J33: Industria / Nacional | L33: =VLOOKUP(J33,$S$5:$U$49,2,0) -> 65 | N33: =IF($M33=2,1,0) -> 0 | O33: =IF($M33=2,1,0) -> 0 | P33: =IF($M33=2,1,0) -> 0 | S33: =CONCATENATE(C33," / ",D33) -> Canal de Panamá / Colombia | T33: =E33 -> 64 | U33: =F33 -> 10 | V33: Canal de Panamá
C34: Ferrocarril | D34: Chile | E34: 45 | F34: 2 | J34: Industria / Nacional | L34: =VLOOKUP(J34,$S$5:$U$49,2,0) -> 65 | N34: =IF($M34=2,1,0) -> 0 | O34: =IF($M34=2,1,0) -> 0 | P34: =IF($M34=2,1,0) -> 0 | S34: =CONCATENATE(C34," / ",D34) -> Ferrocarril / Chile | T34: =E34 -> 45 | U34: =F34 -> 2 | V34: Varios
C35: Comida | D35: Ecuador | E35: 65 | F35: 1 | J35: Petroleo / Nacional | L35: =VLOOKUP(J35,$S$5:$U$49,2,0) -> 65 | N35: =IF($M35=2,1,0) -> 0 | O35: =IF($M35=2,1,0) -> 0 | P35: =IF($M35=2,1,0) -> 0 | S35: =CONCATENATE(C35," / ",D35) -> Comida / Ecuador | T35: =E35 -> 65 | U35: =F35 -> 1 | V35: Ferrocarril
C36: Comida | D36: Guatemala | E36: 70 | F36: 1 | J36: Comida / Nacional | L36: =VLOOKUP(J36,$S$5:$U$49,2,0) -> 50 | N36: =IF($M36=2,1,0) -> 0 | O36: =IF($M36=2,1,0) -> 0 | P36: =IF($M36=2,1,0) -> 0 | S36: =CONCATENATE(C36," / ",D36) -> Comida / Guatemala | T36: =E36 -> 70 | U36: =F36 -> 1 | V36: Comida
C37: Canal de Nicaragua | D37: Nicaragua | E37: 75 | F37: 12 | J37: Exótico / Nacional | L37: =VLOOKUP(J37,$S$5:$U$49,2,0) -> 85 | N37: =IF($M37=2,1,0) -> 0 | O37: =IF($M37=2,1,0) -> 0 | P37: =IF($M37=2,1,0) -> 0 | S37: =CONCATENATE(C37," / ",D37) -> Canal de Nicaragua / Nicaragua | T37: =E37 -> 75 | U37: =F37 -> 12 | V37: Comida
C38: Exótico | D38: Peru | E38: 65 | F38: 1 | J38: Sin inversión | L38: =VLOOKUP(J38,$S$5:$U$49,2,0) -> 0 | N38: =IF($M38=2,1,0) -> 0 | O38: =IF($M38=2,1,0) -> 0 | P38: =IF($M38=2,1,0) -> 0 | S38: =CONCATENATE(C38," / ",D38) -> Exótico / Peru | T38: =E38 -> 65 | U38: =F38 -> 1 | V38: Canal de Nicaragua
C39: Varios | D39: Venezuela | E39: 65 | F39: 1 | J39: Sin inversión | L39: =VLOOKUP(J39,$S$5:$U$49,2,0) -> 0 | N39: =IF($M39=2,1,0) -> 0 | O39: =IF($M39=2,1,0) -> 0 | P39: =IF($M39=2,1,0) -> 0 | S39: =CONCATENATE(C39," / ",D39) -> Varios / Venezuela | T39: =E39 -> 65 | U39: =F39 -> 1 | V39: Exótico
C40: Comida | D40: Venezuela | E40: 60 | F40: 1 | J40: Sin inversión | L40: =VLOOKUP(J40,$S$5:$U$49,2,0) -> 0 | N40: =IF($M40=2,1,0) -> 0 | O40: =IF($M40=2,1,0) -> 0 | P40: =IF($M40=2,1,0) -> 0 | S40: =CONCATENATE(C40," / ",D40) -> Comida / Venezuela | T40: =E40 -> 60 | U40: =F40 -> 1 | V40: Varios
C41: Ferrocarril | D41: Venezuela | E41: 45 | F41: 2 | J41: Sin inversión | L41: =VLOOKUP(J41,$S$5:$U$49,2,0) -> 0 | N41: =IF($M41=2,1,0) -> 0 | O41: =IF($M41=2,1,0) -> 0 | P41: =IF($M41=2,1,0) -> 0 | S41: =CONCATENATE(C41," / ",D41) -> Ferrocarril / Venezuela | T41: =E41 -> 45 | U41: =F41 -> 2 | V41: Comida
C42: Industria | D42: Nacional | E42: 65 | F42: 1 | K42: Total: | L42: =SUM(L32:L41) -> 395 | N42: =SUM(N32:N41) -> 0 | O42: =SUM(O32:O41) -> 0 | P42: =SUM(P32:P41) -> 0 | S42: =CONCATENATE(C42," / ",D42) -> Industria / Nacional | T42: =E42 -> 65 | U42: =F42 -> 1 | V42: Ferrocarril
C43: Comida | D43: Nacional | E43: 50 | F43: 1 | S43: =CONCATENATE(C43," / ",D43) -> Comida / Nacional | T43: =E43 -> 50 | U43: =F43 -> 1
C44: Varios | D44: Nacional | E44: 65 | F44: 1 | S44: =CONCATENATE(C44," / ",D44) -> Varios / Nacional | T44: =E44 -> 65 | U44: =F44 -> 1
C45: Petroleo | D45: Nacional | E45: 65 | F45: 1 | S45: =CONCATENATE(C45," / ",D45) -> Petroleo / Nacional | T45: =E45 -> 65 | U45: =F45 -> 1
...

Sheet Instalaciones Militares
C4: INSTALACIONES MILITARES EXISTENTES
D5: Nº Instalaciones | E5: Nº tropas | F5: Mantenimiento
C6: Fuertes | D6: 7 | E6: =D6*2500 -> 17500 | F6: =D6*2 -> 14
C7: Fortalezas | D7: 7 | E7: =D7*4500 -> 31500 | F7: =D7*4 -> 28
C8: Puertos Militares | D8: 0 | E8: 0 | F8: =D8*15 -> 0
C9: Puertos Comerciales | D9: 12 | E9: 0 | F9: 0
C10: Astilleros | D10: 22 | E10: 0 | F10: =D10 -> 22
C11: Total | D11: =SUM(D6:D10) -> 48 | E11: =SUM(E6:E10) -> 49000 | F11: =SUM(F6:F10) -> 64
C14: CONSTRUCCIÓN DE NUEVAS INSTALACIONES MILITARES
D15: Nº Instalaciones | E15: Hierro | F15: Dinero
C16: Fuertes | E16: =D16 -> 0 | F16: =D16 -> 0
C17: Fortalezas | E17: =1.5*D17 -> 0 | F17: =D17*2 -> 0
C18: Puertos Militares | E18: =D18 -> 0 | F18: =D18*5 -> 0
C19: Puertos Comerciales | E19: =D19 -> 0 | F19: =D19*5 -> 0
C20: Astilleros | E20: =D20*0.25 -> 0 | F20: =D20 -> 0
C21: Total | D21: =SUM(D16:D20) -> 0 | E21: =SUM(E16:E20) -> 0 | F21: =SUM(F16:F20) -> 0

Sheet Transporte
I1: Naval
I2: Ferrocarril
C5: Origen | E5: Destino | G5: Cantidad | H5: Coste Total | I5: Transporte | M5: COSTE TOTAL
A6: =OR(C6="",E6="") -> TRUE | H6: =IF(A6=TRUE,"",IF(I6="Naval",G6*OFFSET($R$6,MATCH(C6,$R$7:$R$39,0),MATCH(E6,$S$6:$AY$6,0))*0.000014*Importación!$N$2,G6*OFFSET($R$6,MATCH(C6,$R$7:$R$39,0),MATCH(E6,$S$6:$AY$6,0))*0.00004*Importación!$N$2)) | I6: Naval | M6: Uds. | N6: Coste | S6: Londres | T6: Paris | U6: Roma | V6: Viena | W6: Moscú | X6: Nueva York | Y6: Washington | Z6: Los Ángeles | AA6: Portland | AB6: Vladivostok | AC6: Bombay | AD6: Shanghai | AE6: Estambul | AF6: Buenos Aires | AG6: Rio de Janeiro | AH6: Caracas | AI6: San Petesburgo | AJ6: Lisboa | AK6: Lima | AL6: Ciudad del cabo | AM6: Luanda | AN6: Maputo | AO6: Singapur | AP6: Bandar Abbas | AQ6: Djibouti | AR6: Panamá | AS6: Yacarta | AT6: Orán | AU6: Dakar | AV6: Melbourne | AW6: Hamburgo | AX6: Estocolmo | AY6: Malabo
A7: =OR(C7="",E7="") -> TRUE | H7: =IF(C7="","",IF(I7="Naval",G7*OFFSET($R$6,MATCH(C7,$R$7:$R$39,0),MATCH(E7,$S$6:$AY$6,0))*0.000014*Importación!$N$2,G7*OFFSET($R$6,MATCH(C7,$R$7:$R$39,0),MATCH(E7,$S$6:$AY$6,0))*0.00004*Importación!$N$2)) | I7: Naval | M7: =SUM(G6:G101) -> 0 | N7: =SUM(H6:H101) -> 0 | R7: Londres | S7: X | T7: 322 | U7: 3650 | V7: 1069 | W7: N/A | X7: 6283 | Y7: 6283 | Z7: N/A | AA7: N/A | AB7: 20583 | AC7: 10652 | AD7: 19014 | AE7: 5523 | AF7: 11641 | AG7: 9570 | AH7: 8374 | AI7: 2583 | AJ7: 1877 | AK7: 19938 | AL7: 11183 | AM7: 8950 | AN7: 13130 | AO7: 15237 | AP7: 10652 | AQ7: 8759 | AR7: 8507 | AS7: 15779 | AT7: 3650 | AU7: 4683 | AV7: 19959 | AW7: 660 | AX7: 2583 | AY7: 8178
A8: =OR(C8="",E8="") -> TRUE | H8: =IF(C8="","",IF(I8="Naval",G8*OFFSET($R$6,MATCH(C8,$R$7:$R$39,0),MATCH(E8,$S$6:$AY$6,0))*0.000014*Importación!$N$2,G8*OFFSET($R$6,MATCH(C8,$R$7:$R$39,0),MATCH(E8,$S$6:$AY$6,0))*0.00004*Importación!$N$2)) | I8: Naval | R8: Paris | S8: {=TRANSPOSE(T7:AY7)} -> 322 | T8: X | U8: 645 | V8: 971 | W8: 4768 | X8: 6283 | Y8: 6283 | Z8: N/A | AA8: N/A | AB8: 18706 | AC8: 8775 | AD8: 17137 | AE8: 2634 | AF8: 11641 | AG8: 9570 | AH8: 8374 | AI8: 2583 | AJ8: 1200 | AK8: 19938 | AL8: 11183 | AM8: 8950 | AN8: 11253 | AO8: 13360 | AP8: 8775 | AQ8: 6882 | AR8: 8507 | AS8: 13902 | AT8: 750 | AU8: 4183 | AV8: 18082 | AW8: 660 | AX8: 2583 | AY8: 7695
A9: =OR(C9="",E9="") -> TRUE | H9: =IF(C9="","",IF(I9="Naval",G9*OFFSET($R$6,MATCH(C9,$R$7:$R$39,0),MATCH(E9,$S$6:$AY$6,0))*0.000014*Importación!$N$2,G9*OFFSET($R$6,MATCH(C9,$R$7:$R$39,0),MATCH(E9,$S$6:$AY$6,0))*0.00004*Importación!$N$2)) | I9: Naval | R9: Roma | S9: 3650 | T9: {=TRANSPOSE(U8:AY8)} -> 645 | U9: X | V9: 536 | W9: 4599 | X9: 6283 | Y9: 6283 | Z9: N/A | AA9: N/A | AB9: 18475 | AC9: 8544 | AD9: 16906 | AE9: 2403 | AF9: 11641 | AG9: 9570 | AH9: 8374 | AI9: 6283 | AJ9: 1823 | AK9: 19938 | AL9: 11183 | AM9: 8950 | AN9: 11253 | AO9: 13360 | AP9: 8775 | AQ9: 6882 | AR9: 8507 | AS9: 13902 | AT9: 750 | AU9: 4683 | AV9: 18082 | AW9: 866 | AX9: 6283 | AY9: 8178
A10: =OR(C10="",E10="") -> TRUE | H10: =IF(C10="","",IF(I10="Naval",G10*OFFSET($R$6,MATCH(C10,$R$7:$R$39,0),MATCH(E10,$S$6:$AY$6,0))*0.000014*Importación!$N$2,G10*OFFSET($R$6,MATCH(C10,$R$7:$R$39,0),MATCH(E10,$S$6:$AY$6,0))*0.00004*Importación!$N$2)) | I10: Naval | R10: Viena | S10: 1069 | T10: 971 | U10: {=TRANSPOSE(V9:AY9)} -> 536 | V10: X | W10: 4288 | X10: 6770 | Y10: 6770 | Z10: N/A | AA10: N/A | AB10: 18475 | AC10: 8544 | AD10: 16906 | AE10: 2727 | AF10: 12128 | AG10: 10057 | AH10: 8861 | AI10: 6770 | AJ10: 2310 | AK10: 20425 | AL10: 11670 | AM10: 9437 | AN10: 11577 | AO10: 13684 | AP10: 9099 | AQ10: 7206 | AR10: 8994 | AS10: 14226 | AT10: 1658 | AU10: 5170 | AV10: 18406 | AW10: 1190 | AX10: 6770 | AY10: 8665
A11: =OR(C11="",E11="") -> TRUE | H11: =IF(C11="","",IF(I11="Naval",G11*OFFSET($R$6,MATCH(C11,$R$7:$R$39,0),MATCH(E11,$S$6:$AY$6,0))*0.000014*Importación!$N$2,G11*OFFSET($R$6,MATCH(C11,$R$7:$R$39,0),MATCH(E11,$S$6:$AY$6,0))*0.00004*Importación!$N$2)) | I11: Naval | R11: Moscú | S11: N/A | T11: 4768 | U11: 4599 | V11: {=TRANSPOSE(W10:AY10)} -> 4288 | W11: X | X11: 10882 | Y11: 10882 | Z11: N/A | AA11: N/A | AB11: 6199 | AC11: 9732 | AD11: 18094 | AE11: 3079 | AF11: 16240 | AG11: 14169 | AH11: 12973 | AI11: 628 | AJ11: 6422 | AK11: 24537 | AL11: 14522 | AM11: 17470 | AN11: 12575 | AO11: 14256 | AP11: 9732 | AQ11: N/A | AR11: 13106 | AS11: 14859 | AT11: 5349 | AU11: N/A | AV11: N/A | AW11: N/A | AX11: N/A | AY11: N/A
A12: =OR(C12="",E12="") -> TRUE | H12: =IF(C12="","",IF(I12="Naval",G12*OFFSET($R$6,MATCH(C12,$R$7:$R$39,0),MATCH(E12,$S$6:$AY$6,0))*0.000014*Importación!$N$2,G12*OFFSET($R$6,MATCH(C12,$R$7:$R$39,0),MATCH(E12,$S$6:$AY$6,0))*0.00004*Importación!$N$2)) | I12: Naval | R12: Nueva York | S12: 6283 | T12: 6283 | U12: 6283 | V12: 6770 | W12: {=TRANSPOSE(X11:AY11)} -> 10882 | X12: X | Y12: 348 | Z12: 2790 | AA12: 2895 | AB12: N/A | AC12: 14382 | AD12: N/A | AE12: 9249 | AF12: 10796 | AG12: 8725 | AH12: 3536 | AI12: 8866 | AJ12: 5603 | AK12: 19093 | AL12: 12688 | AM12: 10455 | AN12: 14635 | AO12: N/A | AP12: 14382 | AQ12: 12485 | AR12: 3536 | AS12: N/A | AT12: 7426 | AU12: 6188 | AV12: N/A | AW12: 6943 | AX12: 8866 | AY12: 9683
A13: =OR(C13="",E13="") -> TRUE | H13: =IF(C13="","",IF(I13="Naval",G13*OFFSET($R$6,MATCH(C13,$R$7:$R$39,0),MATCH(E13,$S$6:$AY$6,0))*0.000014*Importación!$N$2,G13*OFFSET($R$6,MATCH(C13,$R$7:$R$39,0),MATCH(E13,$S$6:$AY$6,0))*0.00004*Importación!$N$2)) | I13: Naval | R13: Washington | S13: 6283 | T13: 6283 | U13: 6283 | V13: 6770 | W13: 10882 | X13: {=TRANSPOSE(Y12:AY12)} -> 348 | Y13: X | Z13: 2669 | AA13: 2803 | AB13: N/A | AC13: 14382 | AD13: N/A | AE13: 9249 | AF13: 10570 | AG13: 8499 | AH13: 3310 | AI13: 8866 | AJ13: 5603 | AK13: 18867 | AL13: 12688 | AM13: 10455 | AN13: 14635 | AO13: N/A | AP13: 14382 | AQ13: 12485 | AR13: 3310 | AS13: N/A | AT13: 7426 | AU13: 6188 | AV13: N/A | AW13: 6943 | AX13: 8866 | AY13: 9683
A14: =OR(C14="",E14="") -> TRUE | H14: =IF(C14="","",IF(I14="Naval",G14*OFFSET($R$6,MATCH(C14,$R$7:$R$39,0),MATCH(E14,$S$6:$AY$6,0))*0.000014*Importación!$N$2,G14*OFFSET($R$6,MATCH(C14,$R$7:$R$39,0),MATCH(E14,$S$6:$AY$6,0))*0.00004*Importación!$N$2)) | I14: Naval | R14: Los Ángeles | S14: N/A | T14: N/A | U14: N/A | V14: N/A | W14: N/A | X14: 2790 | Y14: {=TRANSPOSE(Z13:AY13)} -> 2669 | Z14: X | AA14: 963 | AB14: 8485 | AC14: 19667 | AD14: 10016 | AE14: N/A | AF14: N/A | AG14: N/A | AH14: N/A | AI14: N/A | AJ14: N/A | AK14: 7929 | AL14: N/A | AM14: N/A | AN14: N/A | AO14: 12643 | AP14: N/A | AQ14: N/A | AR14: 5349 | AS14: 12643 | AT14: N/A | AU14: N/A | AV14: 12920 | AW14: N/A | AX14: N/A | AY14: N/A
A15: =OR(C15="",E15="") -> TRUE | H15: =IF(C15="","",IF(I15="Naval",G15*OFFSET($R$6,MATCH(C15,$R$7:$R$39,0),MATCH(E15,$S$6:$AY$6,0))*0.000014*Importación!$N$2,G15*OFFSET($R$6,MATCH(C15,$R$7:$R$39,0),MATCH(E15,$S$6:$AY$6,0))*0.00004*Importación!$N$2)) | I15: Naval | R15: Portland | S15: N/A | T15: N/A | U15: N/A | V15: N/A | W15: N/A | X15: 2895 | Y15: 2803 | Z15: {=TRANSPOSE(AA14:AY14)} -> 963 | AA15: X | AB15: 8485 | AC15: 19667 | AD15: 10016 | AE15: N/A | AF15: N/A | AG15: N/A | AH15: N/A | AI15: N/A | AJ15: N/A | AK15: 8892 | AL15: N/A | AM15: N/A | AN15: N/A | AO15: 12643 | AP15: N/A | AQ15: N/A | AR15: 6312 | AS15: 12643 | AT15: N/A | AU15: N/A | AV15: 12920 | AW15: N/A | AX15: N/A | AY15: N/A
A16: =OR(C16="",E16="") -> TRUE | H16: =IF(C16="","",IF(I16="Naval",G16*OFFSET($R$6,MATCH(C16,$R$7:$R$39,0),MATCH(E16,$S$6:$AY$6,0))*0.000014*Importación!$N$2,G16*OFFSET($R$6,MATCH(C16,$R$7:$R$39,0),MATCH(E16,$S$6:$AY$6,0))*0.00004*Importación!$N$2)) | I16: Naval | R16: Vladivostok | S16: 20583 | T16: 18706 | U16: 18475 | V16: 18475 | W16: 6199 | X16: N/A | Y16: N/A | Z16: 8485 | AA16: {=TRANSPOSE(AB15:AY15)} -> 8485 | AB16: X | AC16: 11828 | AD16: 1569 | AE16: N/A | AF16: N/A | AG16: N/A | AH16: N/A | AI16: N/A | AJ16: N/A | AK16: 16801 | AL16: N/A | AM16: N/A | AN16: N/A | AO16: 4804 | AP16: 11828 | AQ16: N/A | AR16: 16801 | AS16: 4804 | AT16: N/A | AU16: N/A | AV16: 10078 | AW16: N/A | AX16: N/A | AY16: N/A
A17: =OR(C17="",E17="") -> TRUE | H17: =IF(C17="","",IF(I17="Naval",G17*OFFSET($R$6,MATCH(C17,$R$7:$R$39,0),MATCH(E17,$S$6:$AY$6,0))*0.000014*Importación!$N$2,G17*OFFSET($R$6,MATCH(C17,$R$7:$R$39,0),MATCH(E17,$S$6:$AY$6,0))*0.00004*Importación!$N$2)) | I17: Naval | R17: Bombay | S17: 10652 | T17: 8775 | U17: 8544 | V17: 8544 | W17: 9732 | X17: 14382 | Y17: 14382 | Z17: 19667 | AA17: 19667 | AB17: {=TRANSPOSE(AC16:AY16)} -> 11828 | AC17: X | AD17: 10259 | AE17: 6653 | AF17: N/A | AG17: N/A | AH17: N/A | AI17: N/A | AJ17: 8779 | AK17: N/A | AL17: 8584 | AM17: 11532 | AN17: 6637 | AO17: 7024 | AP17: 970 | AQ17: 1897 | AR17: N/A | AS17: 7024 | AT17: 6956 | AU17: N/A | AV17: 11200 | AW17: N/A | AX17: N/A | AY17: N/A
A18: =OR(C18="",E18="") -> TRUE | H18: =IF(C18="","",IF(I18="Naval",G18*OFFSET($R$6,MATCH(C18,$R$7:$R$39,0),MATCH(E18,$S$6:$AY$6,0))*0.000014*Importación!$N$2,G18*OFFSET($R$6,MATCH(C18,$R$7:$R$39,0),MATCH(E18,$S$6:$AY$6,0))*0.00004*Importación!$N$2)) | I18: Naval | R18: Shanghai | S18: 19014 | T18: 17137 | U18: 16906 | V18: 16906 | W18: 18094 | X18: N/A | Y18: N/A | Z18: 10016 | AA18: 10016 | AB18: 1569 | AC18: {=TRANSPOSE(AD17:AY17)} -> 10259 | AD18: X | AE18: 11779 | AF18: N/A | AG18: N/A | AH18: N/A | AI18: N/A | AJ18: 13095 | AK18: N/A | AL18: N/A | AM18: N/A | AN18: N/A | AO18: 3235 | AP18: 10259 | AQ18: 10259 | AR18: N/A | AS18: 3235 | AT18: 12082 | AU18: N/A | AV18: 9101 | AW18: 19674 | AX18: N/A | AY18: N/A
A19: =OR(C19="",E19="") -> TRUE | H19: =IF(C19="","",IF(I19="Naval",G19*OFFSET($R$6,MATCH(C19,$R$7:$R$39,0),MATCH(E19,$S$6:$AY$6,0))*0.000014*Importación!$N$2,G19*OFFSET($R$6,MATCH(C19,$R$7:$R$39,0),MATCH(E19,$S$6:$AY$6,0))*0.00004*Importación!$N$2)) | I19: Naval | R19: Estambul | S19: 5523 | T19: 2634 | U19: 2403 | V19: 2727 | W19: 3079 | X19: 9249 | Y19: 9249 | Z19: N/A | AA19: N/A | AB19: N/A | AC19: 6653 | AD19: {=TRANSPOSE(AE18:AY18)} -> 11779 | AE19: X | AF19: 13410 | AG19: 11339 | AH19: 10143 | AI19: 8106 | AJ19: 3646 | AK19: N/A | AL19: 11443 | AM19: 10719 | AN19: 9496 | AO19: 11780 | AP19: 6653 | AQ19: 4756 | AR19: 10143 | AS19: 11780 | AT19: 1823 | AU19: 5229 | AV19: 15956 | AW19: 6183 | AX19: 8106 | AY19: 8724
A20: =OR(C20="",E20="") -> TRUE | H20: =IF(C20="","",IF(I20="Naval",G20*OFFSET($R$6,MATCH(C20,$R$7:$R$39,0),MATCH(E20,$S$6:$AY$6,0))*0.000014*Importación!$N$2,G20*OFFSET($R$6,MATCH(C20,$R$7:$R$39,0),MATCH(E20,$S$6:$AY$6,0))*0.00004*Importación!$N$2)) | I20: Naval | R20: Buenos Aires | S20: 11641 | T20: 11641 | U20: 11641 | V20: 12128 | W20: 16240 | X20: 10796 | Y20: 10570 | Z20: N/A | AA20: N/A | AB20: N/A | AC20: N/A | AD20: N/A | AE20: {=TRANSPOSE(AF19:AY19)} -> 13410 | AF20: X | AG20: 2071 | AH20: 9187 | AI20: 14224 | AJ20: 9764 | AK20: 8297 | AL20: 6751 | AM20: 7634 | AN20: 8698 | AO20: N/A | AP20: N/A | AQ20: N/A | AR20: 10539 | AS20: N/A | AT20: 11587 | AU20: 6958 | AV20: 12095 | AW20: 12301 | AX20: 14224 | AY20: 7980
A21: =OR(C21="",E21="") -> TRUE | H21: =IF(C21="","",IF(I21="Naval",G21*OFFSET($R$6,MATCH(C21,$R$7:$R$39,0),MATCH(E21,$S$6:$AY$6,0))*0.000014*Importación!$N$2,G21*OFFSET($R$6,MATCH(C21,$R$7:$R$39,0),MATCH(E21,$S$6:$AY$6,0))*0.00004*Importación!$N$2)) | I21: Naval | R21: Rio de Janeiro | S21: 9570 | T21: 9570 | U21: 9570 | V21: 10057 | W21: 14169 | X21: 8725 | Y21: 8499 | Z21: N/A | AA21: N/A | AB21: N/A | AC21: N/A | AD21: N/A | AE21: 11339 | AF21: {=TRANSPOSE(AG20:AY20)} -> 2071 | AG21: X | AH21: 7116 | AI21: 12153 | AJ21: 7693 | AK21: 10368 | AL21: 6082 | AM21: 6175 | AN21: 8029 | AO21: N/A | AP21: N/A | AQ21: N/A | AR21: 8468 | AS21: N/A | AT21: 9516 | AU21: 4887 | AV21: 15066 | AW21: 10230 | AX21: 12153 | AY21: 6386
A22: =OR(C22="",E22="") -> TRUE | H22: =IF(C22="","",IF(I22="Naval",G22*OFFSET($R$6,MATCH(C22,$R$7:$R$39,0),MATCH(E22,$S$6:$AY$6,0))*0.000014*Importación!$N$2,G22*OFFSET($R$6,MATCH(C22,$R$7:$R$39,0),MATCH(E22,$S$6:$AY$6,0))*0.00004*Importación!$N$2)) | I22: Naval | R22: Caracas | S22: 8374 | T22: 8374 | U22: 8374 | V22: 8861 | W22: 12973 | X22: 3536 | Y22: 3310 | Z22: N/A | AA22: N/A | AB22: N/A | AC22: N/A | AD22: N/A | AE22: 10143 | AF22: 9187 | AG22: {=TRANSPOSE(AH21:AY21)} -> 7116 | AH22: X | AI22: 10957 | AJ22: 6497 | AK22: N/A | AL22: N/A | AM22: N/A | AN22: N/A | AO22: N/A | AP22: N/A | AQ22: N/A | AR22: 1352 | AS22: N/A | AT22: 8320 | AU22: 5805 | AV22: N/A | AW22: 9034 | AX22: 10957 | AY22: 9300
A23: =OR(C23="",E23="") -> TRUE | H23: =IF(C23="","",IF(I23="Naval",G23*OFFSET($R$6,MATCH(C23,$R$7:$R$39,0),MATCH(E23,$S$6:$AY$6,0))*0.000014*Importación!$N$2,G23*OFFSET($R$6,MATCH(C23,$R$7:$R$39,0),MATCH(E23,$S$6:$AY$6,0))*0.00004*Importación!$N$2)) | I23: Naval | R23: San Petesburgo | S23: 2583 | T23: 2583 | U23: 6283 | V23: 6770 | W23: 628 | X23: 8866 | Y23: 8866 | Z23: N/A | AA23: N/A | AB23: N/A | AC23: N/A | AD23: N/A | AE23: 8106 | AF23: 14224 | AG23: 12153 | AH23: {=TRANSPOSE(AI22:AY22)} -> 10957 | AI23: X | AJ23: 4460 | AK23: N/A | AL23: N/A | AM23: N/A | AN23: N/A | AO23: N/A | AP23: N/A | AQ23: N/A | AR23: 12309 | AS23: N/A | AT23: 6283 | AU23: 7266 | AV23: N/A | AW23: 1923 | AX23: 1015 | AY23: 10761
A24: =OR(C24="",E24="") -> TRUE | H24: =IF(C24="","",IF(I24="Naval",G24*OFFSET($R$6,MATCH(C24,$R$7:$R$39,0),MATCH(E24,$S$6:$AY$6,0))*0.000014*Importación!$N$2,G24*OFFSET($R$6,MATCH(C24,$R$7:$R$39,0),MATCH(E24,$S$6:$AY$6,0))*0.00004*Importación!$N$2)) | I24: Naval | R24: Lisboa | S24: 1877 | T24: 1200 | U24: 1823 | V24: 2310 | W24: 6422 | X24: 5603 | Y24: 5603 | Z24: N/A | AA24: N/A | AB24: N/A | AC24: 8779 | AD24: 13095 | AE24: 3646 | AF24: 9764 | AG24: 7693 | AH24: 6497 | AI24: {=TRANSPOSE(AJ23:AY23)} -> 4460 | AJ24: X | AK24: N/A | AL24: N/A | AM24: N/A | AN24: N/A | AO24: N/A | AP24: N/A | AQ24: 6882 | AR24: 7849 | AS24: N/A | AT24: 1823 | AU24: 2806 | AV24: N/A | AW24: 2537 | AX24: 4730 | AY24: N/A
A25: =OR(C25="",E25="") -> TRUE | H25: =IF(C25="","",IF(I25="Naval",G25*OFFSET($R$6,MATCH(C25,$R$7:$R$39,0),MATCH(E25,$S$6:$AY$6,0))*0.000014*Importación!$N$2,G25*OFFSET($R$6,MATCH(C25,$R$7:$R$39,0),MATCH(E25,$S$6:$AY$6,0))*0.00004*Importación!$N$2)) | I25: Naval | R25: Lima | S25: 19938 | T25: 19938 | U25: 19938 | V25: 20425 | W25: 24537 | X25: 19093 | Y25: 18867 | Z25: 7929 | AA25: 8892 | AB25: 16801 | AC25: N/A | AD25: N/A | AE25: N/A | AF25: 8297 | AG25: 10368 | AH25: N/A | AI25: N/A | AJ25: {=TRANSPOSE(AK24:AY24)} -> N/A | AK25: X | AL25: N/A | AM25: N/A | AN25: N/A | AO25: 16801 | AP25: N/A | AQ25: 23825 | AR25: 2580 | AS25: 16801 | AT25: N/A | AU25: N/A | AV25: 11091 | AW25: 20598 | AX25: N/A | AY25: N/A
A26: =OR(C26="",E26="") -> TRUE | H26: =IF(C26="","",IF(I26="Naval",G26*OFFSET($R$6,MATCH(C26,$R$7:$R$39,0),MATCH(E26,$S$6:$AY$6,0))*0.000014*Importación!$N$2,G26*OFFSET($R$6,MATCH(C26,$R$7:$R$39,0),MATCH(E26,$S$6:$AY$6,0))*0.00004*Importación!$N$2)) | I26: Naval | R26: Ciudad del cabo | S26: 11183 | T26: 11183 | U26: 11183 | V26: 11670 | W26: 14522 | X26: 12688 | Y26: 12688 | Z26: N/A | AA26: N/A | AB26: N/A | AC26: 8584 | AD26: N/A | AE26: 11443 | AF26: 6751 | AG26: 6082 | AH26: N/A | AI26: N/A | AJ26: N/A | AK26: {=TRANSPOSE(AL25:AY25)} -> N/A | AL26: X | AM26: 2948 | AN26: 1947 | AO26: N/A | AP26: 8584 | AQ26: 6687 | AR26: 12260 | AS26: N/A | AT26: N/A | AU26: N/A | AV26: 10544 | AW26: 11843 | AX26: N/A | AY26: 4459
A27: =OR(C27="",E27="") -> TRUE | H27: =IF(C27="","",IF(I27="Naval",G27*OFFSET($R$6,MATCH(C27,$R$7:$R$39,0),MATCH(E27,$S$6:$AY$6,0))*0.000014*Importación!$N$2,G27*OFFSET($R$6,MATCH(C27,$R$7:$R$39,0),MATCH(E27,$S$6:$AY$6,0))*0.00004*Importación!$N$2)) | I27: Naval | R27: Luanda | S27: 8950 | T27: 8950 | U27: 8950 | V27: 9437 | W27: 17470 | X27: 10455 | Y27: 10455 | Z27: N/A | AA27: N/A | AB27: N/A | AC27: 11532 | AD27: N/A | AE27: 10719 | AF27: 7634 | AG27: 6175 | AH27: N/A | AI27: N/A | AJ27: N/A | AK27: N/A | AL27: {=TRANSPOSE(AM26:AY26)} -> 2948 | AM27: X | AN27: 4895 | AO27: N/A | AP27: N/A | AQ27: N/A | AR27: N/A | AS27: N/A | AT27: N/A | AU27: N/A | AV27: N/A | AW27: 9610 | AX27: N/A | AY27: N/A
A28: =OR(C28="",E28="") -> TRUE | H28: =IF(C28="","",IF(I28="Naval",G28*OFFSET($R$6,MATCH(C28,$R$7:$R$39,0),MATCH(E28,$S$6:$AY$6,0))*0.000014*Importación!$N$2,G28*OFFSET($R$6,MATCH(C28,$R$7:$R$39,0),MATCH(E28,$S$6:$AY$6,0))*0.00004*Importación!$N$2)) | I28: Naval | R28: Maputo | S28: 13130 | T28: 11253 | U28: 11253 | V28: 11577 | W28: 12575 | X28: 14635 | Y28: 14635 | Z28: N/A | AA28: N/A | AB28: N/A | AC28: 6637 | AD28: N/A | AE28: 9496 | AF28: 8698 | AG28: 8029 | AH28: N/A | AI28: N/A | AJ28: N/A | AK28: N/A | AL28: 1947 | AM28: {=TRANSPOSE(AN27:AY27)} -> 4895 | AN28: X | AO28: N/A | AP28: N/A | AQ28: N/A | AR28: N/A | AS28: N/A | AT28: N/A | AU28: N/A | AV28: N/A | AW28: 14159 | AX28: N/A | AY28: N/A
A29: =OR(C29="",E29="") -> TRUE | H29: =IF(C29="","",IF(I29="Naval",G29*OFFSET($R$6,MATCH(C29,$R$7:$R$39,0),MATCH(E29,$S$6:$AY$6,0))*0.000014*Importación!$N$2,G29*OFFSET($R$6,MATCH(C29,$R$7:$R$39,0),MATCH(E29,$S$6:$AY$6,0))*0.00004*Importación!$N$2)) | I29: Naval | R29: Singapur | S29: 15237 | T29: 13360 | U29: 13360 | V29: 13684 | W29: 14256 | X29: N/A | Y29: N/A | Z29: 12643 | AA29: 12643 | AB29: 4804 | AC29: 7024 | AD29: 3235 | AE29: 11780 | AF29: N/A | AG29: N/A | AH29: N/A | AI29: N/A | AJ29: N/A | AK29: 16801 | AL29: N/A | AM29: N/A | AN29: {=TRANSPOSE(AO28:AY28)} -> N/A | AO29: X | AP29: 7024 | AQ29: 7024 | AR29: 17992 | AS29: 938 | AT29: N/A | AU29: N/A | AV29: 8171 | AW29: 15897 | AX29: N/A | AY29: N/A
A30: =OR(C30="",E30="") -> TRUE | H30: =IF(C30="","",IF(I30="Naval",G30*OFFSET($R$6,MATCH(C30,$R$7:$R$39,0),MATCH(E30,$S$6:$AY$6,0))*0.000014*Importación!$N$2,G30*OFFSET($R$6,MATCH(C30,$R$7:$R$39,0),MATCH(E30,$S$6:$AY$6,0))*0.00004*Importación!$N$2)) | I30: Naval | R30: Bandar Abbas | S30: 10652 | T30: 8775 | U30: 8775 | V30: 9099 | W30: 9732 | X30: 14382 | Y30: 14382 | Z30: N/A | AA30: N/A | AB30: 11828 | AC30: 970 | AD30: 10259 | AE30: 6653 | AF30: N/A | AG30: N/A | AH30: N/A | AI30: N/A | AJ30: N/A | AK30: N/A | AL30: 8584 | AM30: N/A | AN30: N/A | AO30: {=TRANSPOSE(AP29:AY29)} -> 7024 | AP30: X | AQ30: N/A | AR30: N/A | AS30: N/A | AT30: N/A | AU30: N/A | AV30: N/A | AW30: 11312 | AX30: N/A | AY30: N/A
A31: =OR(C31="",E31="") -> TRUE | H31: =IF(C31="","",IF(I31="Naval",G31*OFFSET($R$6,MATCH(C31,$R$7:$R$39,0),MATCH(E31,$S$6:$AY$6,0))*0.000014*Importación!$N$2,G31*OFFSET($R$6,MATCH(C31,$R$7:$R$39,0),MATCH(E31,$S$6:$AY$6,0))*0.00004*Importación!$N$2)) | I31: Naval | R31: Djibouti | S31: 8759 | T31: 6882 | U31: 6882 | V31: 7206 | W31: N/A | X31: 12485 | Y31: 12485 | Z31: N/A | AA31: N/A | AB31: N/A | AC31: 1897 | AD31: 10259 | AE31: 4756 | AF31: N/A | AG31: N/A | AH31: N/A | AI31: N/A | AJ31: 6882 | AK31: 23825 | AL31: 6687 | AM31: N/A | AN31: N/A | AO31: 7024 | AP31: {=TRANSPOSE(AQ30:AY30)} -> N/A | AQ31: X | AR31: N/A | AS31: N/A | AT31: N/A | AU31: N/A | AV31: N/A | AW31: 9419 | AX31: N/A | AY31: N/A
A32: =OR(C32="",E32="") -> TRUE | H32: =IF(C32="","",IF(I32="Naval",G32*OFFSET($R$6,MATCH(C32,$R$7:$R$39,0),MATCH(E32,$S$6:$AY$6,0))*0.000014*Importación!$N$2,G32*OFFSET($R$6,MATCH(C32,$R$7:$R$39,0),MATCH(E32,$S$6:$AY$6,0))*0.00004*Importación!$N$2)) | I32: Naval | R32: Panamá | S32: 8507 | T32: 8507 | U32: 8507 | V32: 8994 | W32: 13106 | X32: 3536 | Y32: 3310 | Z32: 5349 | AA32: 6312 | AB32: 16801 | AC32: N/A | AD32: N/A | AE32: 10143 | AF32: 10539 | AG32: 8468 | AH32: 1352 | AI32: 12309 | AJ32: 7849 | AK32: 2580 | AL32: 12260 | AM32: N/A | AN32: N/A | AO32: 17992 | AP32: N/A | AQ32: {=TRANSPOSE(AR31:AY31)} -> N/A | AR32: X | AS32: 17992 | AT32: N/A | AU32: N/A | AV32: 14823 | AW32: 20619 | AX32: N/A | AY32: N/A
A33: =OR(C33="",E33="") -> TRUE | H33: =IF(C33="","",IF(I33="Naval",G33*OFFSET($R$6,MATCH(C33,$R$7:$R$39,0),MATCH(E33,$S$6:$AY$6,0))*0.000014*Importación!$N$2,G33*OFFSET($R$6,MATCH(C33,$R$7:$R$39,0),MATCH(E33,$S$6:$AY$6,0))*0.00004*Importación!$N$2)) | I33: Naval | R33: Yacarta | S33: 15779 | T33: 13902 | U33: 13902 | V33: 14226 | W33: 14859 | X33: N/A | Y33: N/A | Z33: 12643 | AA33: 12643 | AB33: 4804 | AC33: 7024 | AD33: 3235 | AE33: 11780 | AF33: N/A | AG33: N/A | AH33: N/A | AI33: N/A | AJ33: N/A | AK33: 16801 | AL33: N/A | AM33: N/A | AN33: N/A | AO33: 938 | AP33: N/A | AQ33: N/A | AR33: {=TRANSPOSE(AS32:AY32)} -> 17992 | AS33: X | AT33: N/A | AU33: N/A | AV33: N/A | AW33: 16439 | AX33: N/A | AY33: N/A
A34: =OR(C34="",E34="") -> TRUE | H34: =IF(C34="","",IF(I34="Naval",G34*OFFSET($R$6,MATCH(C34,$R$7:$R$39,0),MATCH(E34,$S$6:$AY$6,0))*0.000014*Importación!$N$2,G34*OFFSET($R$6,MATCH(C34,$R$7:$R$39,0),MATCH(E34,$S$6:$AY$6,0))*0.00004*Importación!$N$2)) | I34: Naval | R34: Orán | S34: 3650 | T34: 750 | U34: 750 | V34: 1658 | W34: 5349 | X34: 7426 | Y34: 7426 | Z34: N/A | AA34: N/A | AB34: N/A | AC34: 6956 | AD34: 12082 | AE34: 1823 | AF34: 11587 | AG34: 9516 | AH34: 8320 | AI34: 6283 | AJ34: 1823 | AK34: N/A | AL34: N/A | AM34: N/A | AN34: N/A | AO34: N/A | AP34: N/A | AQ34: N/A | AR34: N/A | AS34: {=TRANSPOSE(AT33:AY33)} -> N/A | AT34: X | AU34: N/A | AV34: N/A | AW34: 4310 | AX34: N/A | AY34: N/A
A35: =OR(C35="",E35="") -> TRUE | H35: =IF(C35="","",IF(I35="Naval",G35*OFFSET($R$6,MATCH(C35,$R$7:$R$39,0),MATCH(E35,$S$6:$AY$6,0))*0.000014*Importación!$N$2,G35*OFFSET($R$6,MATCH(C35,$R$7:$R$39,0),MATCH(E35,$S$6:$AY$6,0))*0.00004*Importación!$N$2)) | I35: Naval | R35: Dakar | S35: 4683 | T35: 4183 | U35: 4683 | V35: 5170 | W35: N/A | X35: 6188 | Y35: 6188 | Z35: N/A | AA35: N/A | AB35: N/A | AC35: N/A | AD35: N/A | AE35: 5229 | AF35: 6958 | AG35: 4887 | AH35: 5805 | AI35: 7266 | AJ35: 2806 | AK35: N/A | AL35: N/A | AM35: N/A | AN35: N/A | AO35: N/A | AP35: N/A | AQ35: N/A | AR35: N/A | AS35: N/A | AT35: {=TRANSPOSE(AU34:AY34)} -> N/A | AU35: X | AV35: N/A | AW35: 5343 | AX35: N/A | AY35: N/A
